BEGIN:VCALENDAR
VERSION:2.0
PRODID:-//The Borough of West Reading, PA - ECPv6.15.20//NONSGML v1.0//EN
CALSCALE:GREGORIAN
METHOD:PUBLISH
X-WR-CALNAME:The Borough of West Reading, PA
X-ORIGINAL-URL:https://www.westreadingborough.com
X-WR-CALDESC:Events for The Borough of West Reading, PA
REFRESH-INTERVAL;VALUE=DURATION:PT1H
X-Robots-Tag:noindex
X-PUBLISHED-TTL:PT1H
BEGIN:VTIMEZONE
TZID:America/New_York
BEGIN:DAYLIGHT
TZOFFSETFROM:-0500
TZOFFSETTO:-0400
TZNAME:EDT
DTSTART:20240310T070000
END:DAYLIGHT
BEGIN:STANDARD
TZOFFSETFROM:-0400
TZOFFSETTO:-0500
TZNAME:EST
DTSTART:20241103T060000
END:STANDARD
BEGIN:DAYLIGHT
TZOFFSETFROM:-0500
TZOFFSETTO:-0400
TZNAME:EDT
DTSTART:20250309T070000
END:DAYLIGHT
BEGIN:STANDARD
TZOFFSETFROM:-0400
TZOFFSETTO:-0500
TZNAME:EST
DTSTART:20251102T060000
END:STANDARD
BEGIN:DAYLIGHT
TZOFFSETFROM:-0500
TZOFFSETTO:-0400
TZNAME:EDT
DTSTART:20260308T070000
END:DAYLIGHT
BEGIN:STANDARD
TZOFFSETFROM:-0400
TZOFFSETTO:-0500
TZNAME:EST
DTSTART:20261101T060000
END:STANDARD
END:VTIMEZONE
BEGIN:VEVENT
DTSTART;TZID=America/New_York:20250828T170000
DTEND;TZID=America/New_York:20250828T200000
DTSTAMP:20260422T214415
CREATED:20250807T125529Z
LAST-MODIFIED:20250807T125529Z
UID:10000014-1756400400-1756411200@www.westreadingborough.com
SUMMARY:Local Love Project
DESCRIPTION:New event\, starting Thursday\, August 21st\, we’re launching the Local Love project — a new monthly event happening every 3rd Thursday from 5–8 pm. \nParticipating retail shops will stay open late with exclusive promotions\, curated shopping experiences\, and one-of-a-kind finds you won’t want to miss. It’s the perfect night to explore\, discover something new\, and support your favorite local businesses. \nMark your calendar and show some Local Love!
URL:https://www.westreadingborough.com/event/local-love-project-2/
LOCATION:West Reading Park & Pavilion\, 505 Sycamore Road\, West Reading\, PA\, 19611\, United States
CATEGORIES:Event
ATTACH;FMTTYPE=image/jpeg:https://www.westreadingborough.com/wp-content/uploads/2025/08/event-Local-Love.jpg
END:VEVENT
BEGIN:VEVENT
DTSTART;TZID=America/New_York:20250825T180000
DTEND;TZID=America/New_York:20250825T180000
DTSTAMP:20260422T214415
CREATED:20250707T201320Z
LAST-MODIFIED:20251028T200653Z
UID:10000009-1756144800-1756144800@www.westreadingborough.com
SUMMARY:Environmental Advisory Council Meeting
DESCRIPTION:
URL:https://www.westreadingborough.com/event/environmental-advisory-council-meeting/
LOCATION:West Reading Borough Hall\, 500 Chestnut Street\, West Reading\, PA\, 19611\, United States
CATEGORIES:Environmental Advisory Council Meeting,Public Meeting
ATTACH;FMTTYPE=image/jpeg:https://www.westreadingborough.com/wp-content/uploads/2025/10/Environmental-Advisory-Council-01.jpg
END:VEVENT
BEGIN:VEVENT
DTSTART;TZID=America/New_York:20250821T170000
DTEND;TZID=America/New_York:20250821T200000
DTSTAMP:20260422T214415
CREATED:20250807T124737Z
LAST-MODIFIED:20250807T124737Z
UID:10000013-1755795600-1755806400@www.westreadingborough.com
SUMMARY:Local Love Project
DESCRIPTION:New event\, starting Thursday\, August 21st\, we’re launching the Local Love project — a new monthly event happening every 3rd Thursday from 5–8 pm. \nParticipating retail shops will stay open late with exclusive promotions\, curated shopping experiences\, and one-of-a-kind finds you won’t want to miss. It’s the perfect night to explore\, discover something new\, and support your favorite local businesses. \nMark your calendar and show some Local Love!
URL:https://www.westreadingborough.com/event/local-love-project/
LOCATION:West Reading Park & Pavilion\, 505 Sycamore Road\, West Reading\, PA\, 19611\, United States
CATEGORIES:Event
ATTACH;FMTTYPE=image/jpeg:https://www.westreadingborough.com/wp-content/uploads/2025/08/event-Local-Love.jpg
END:VEVENT
BEGIN:VEVENT
DTSTART;TZID=America/New_York:20250819T190000
DTEND;TZID=America/New_York:20250819T190000
DTSTAMP:20260422T214415
CREATED:20250707T201239Z
LAST-MODIFIED:20251028T165018Z
UID:10000008-1755630000-1755630000@www.westreadingborough.com
SUMMARY:Borough Council Meeting
DESCRIPTION:Due to technical issues\, the recording of this meeting took place in two separate segments. \nA recording of this meeting can be viewed here. When prompted enter passcode: 70C7h&^b \nA recording of this meeting can be viewed here. When prompted enter passcode: hHgIBt=7
URL:https://www.westreadingborough.com/event/borough-council-meeting/
LOCATION:West Reading Borough Hall\, 500 Chestnut Street\, West Reading\, PA\, 19611\, United States
CATEGORIES:Borough Council Meeting,Public Meeting
ATTACH;FMTTYPE=image/jpeg:https://www.westreadingborough.com/wp-content/uploads/2025/07/event-Borough-Hall.jpg
END:VEVENT
BEGIN:VEVENT
DTSTART;TZID=America/New_York:20250816T110000
DTEND;TZID=America/New_York:20250816T170000
DTSTAMP:20260422T214415
CREATED:20250723T193351Z
LAST-MODIFIED:20250723T195522Z
UID:10000011-1755342000-1755363600@www.westreadingborough.com
SUMMARY:West Reading French Fry Fest
DESCRIPTION:The 7th Annual West Reading French Fry Fest is an outdoor event showcasing each participating restaurant or vendor’s take on everyone’s favorite food: French fries! \nBy popular request we have expanded the fest to the 600 – 700 blocks (pedestrian only!) of Penn Avenue. \nWith the best French Fries and local vendors\, the West Reading French Fry Fest has something for everyone; an amazing Summer event that continues to grow in size and popularity! \nAdmission is FREE + French fries are pay-as-you-go! This is a cash friendly event and there will be ATM’s on site. \nThank you to our 2025 sponsors:\nMendez Flooring and Tile \nCome hungry\, bring your friends\, and support local! 🍟🎶  You won’t want to miss it!
URL:https://www.westreadingborough.com/event/west-reading-french-fry-fest/
LOCATION:West Reading Park & Pavilion\, 505 Sycamore Road\, West Reading\, PA\, 19611\, United States
CATEGORIES:Event
ATTACH;FMTTYPE=image/jpeg:https://www.westreadingborough.com/wp-content/uploads/2025/07/event-French-Fry-Fest-2025.jpg
END:VEVENT
BEGIN:VEVENT
DTSTART;TZID=America/New_York:20250814T180000
DTEND;TZID=America/New_York:20250814T180000
DTSTAMP:20260422T214415
CREATED:20250707T201149Z
LAST-MODIFIED:20251028T200528Z
UID:10000007-1755194400-1755194400@www.westreadingborough.com
SUMMARY:Finance Committee Meeting
DESCRIPTION:
URL:https://www.westreadingborough.com/event/finance-committee-meeting/
LOCATION:West Reading Borough Hall\, 500 Chestnut Street\, West Reading\, PA\, 19611\, United States
CATEGORIES:Finance Committee Meeting,Public Meeting
ATTACH;FMTTYPE=image/jpeg:https://www.westreadingborough.com/wp-content/uploads/2025/07/event-Borough-Hall.jpg
END:VEVENT
BEGIN:VEVENT
DTSTART;TZID=America/New_York:20250809T110000
DTEND;TZID=America/New_York:20250809T120000
DTSTAMP:20260422T214415
CREATED:20250707T202526Z
LAST-MODIFIED:20250707T202526Z
UID:10000002-1754737200-1754740800@www.westreadingborough.com
SUMMARY:Hydro Jump Class
DESCRIPTION:Make a splash this summer at this FUN\, full-body\, low impact aquatic fitness class! Sherri incorporates the use of various types of equipment including her aqua TRAMPOLINES\, strength bands\, happy flowers\, Aqua Ohm’s and more! We love “pool toys”! Classes will be held weekly on Saturday’s at 11:00 a.m. beginning June 23rd. \nThis class combines cardio exercises as well as strength/resistance conditioning. No swimming experience is needed. Go at your own pace! Wear a bathing suit and water shoes are strongly recommended to protect your feet and give you traction on the pool floor. Bring a water bottle – you will get thirsty! No membership required. The class costs $15 cash. Due to equipment restrictions\, we can only admit 30 people per class. Plan to arrive early for street parking and to sign in. This is an outdoor class that will not be held in inclement weather. \nIf you have any questions\, please contact the Instructor\, Sherri Freifelder at 484-529-5945.
URL:https://www.westreadingborough.com/event/hydro-jump-class/
LOCATION:West Reading Pool\, 475 Museum Road\, West Reading\, PA\, 19611\, United States
CATEGORIES:Community Event
ATTACH;FMTTYPE=image/jpeg:https://www.westreadingborough.com/wp-content/uploads/2025/07/event-Hydro-Jump-Class.jpg
END:VEVENT
BEGIN:VEVENT
DTSTART;TZID=America/New_York:20250808T180000
DTEND;TZID=America/New_York:20250808T200000
DTSTAMP:20260422T214415
CREATED:20250807T131439Z
LAST-MODIFIED:20250807T131439Z
UID:10000017-1754676000-1754683200@www.westreadingborough.com
SUMMARY:West Reading Summer 2nd Fridays
DESCRIPTION:2nd Friday in West Reading showcases live music from May – September and is hosted by the West Reading Community Revitalization Foundation (WRCRF)\, West Reading shops and businesses! \n2nd Friday on the Avenue is a time to celebrate and recognize our independent shops and locally owned restaurants! \nLocal live music plays during the warmer months (weather permitting\, May – September\, 6-8pm) to get your toes tapping as you stroll the Avenue. Featured act\, Sons of Phelan perform at the intersection of 6th Ave. and Penn Ave. from 6 to 8 PM. \nWest Reading is 100% committed to serving our community. \nWe invite the public to share their 2nd Friday adventures on our social media.
URL:https://www.westreadingborough.com/event/west-reading-summer-2nd-fridays/
LOCATION:West Reading Park & Pavilion\, 505 Sycamore Road\, West Reading\, PA\, 19611\, United States
CATEGORIES:Event
ATTACH;FMTTYPE=image/jpeg:https://www.westreadingborough.com/wp-content/uploads/2025/08/event-Summer-Concert-Series.jpg
END:VEVENT
BEGIN:VEVENT
DTSTART;TZID=America/New_York:20250804T180000
DTEND;TZID=America/New_York:20250804T180000
DTSTAMP:20260422T214415
CREATED:20250707T200950Z
LAST-MODIFIED:20250708T115457Z
UID:10000003-1754330400-1754330400@www.westreadingborough.com
SUMMARY:Shade Tree Commission Meeting
DESCRIPTION:
URL:https://www.westreadingborough.com/event/shade-tree-commission-meeting/
LOCATION:West Reading Borough Hall\, 500 Chestnut Street\, West Reading\, PA\, 19611\, United States
CATEGORIES:Public Meeting
ATTACH;FMTTYPE=image/jpeg:https://www.westreadingborough.com/wp-content/uploads/2025/07/event-Borough-Hall.jpg
END:VEVENT
BEGIN:VEVENT
DTSTART;TZID=America/New_York:20250804T080000
DTEND;TZID=America/New_York:20250804T170000
DTSTAMP:20260422T214415
CREATED:20250708T000608Z
LAST-MODIFIED:20250708T115155Z
UID:10000001-1754294400-1754326800@www.westreadingborough.com
SUMMARY:Recreation Commission Meeting
DESCRIPTION:
URL:https://www.westreadingborough.com/event/recreation-commission-meeting-bicentennial-house/
LOCATION:Bicentennial House\, 201 Playground Drive\, West Reading\, PA\, 19611\, United States
CATEGORIES:Public Meeting
ATTACH;FMTTYPE=image/jpeg:https://www.westreadingborough.com/wp-content/uploads/2025/07/event-Bicentennial-House.jpg
END:VEVENT
BEGIN:VEVENT
DTSTART;TZID=America/New_York:20250714T170000
DTEND;TZID=America/New_York:20250714T170000
DTSTAMP:20260422T214415
CREATED:20251107T025354Z
LAST-MODIFIED:20251107T025354Z
UID:10000050-1752512400-1752512400@www.westreadingborough.com
SUMMARY:Surplus Vehicle Auction
DESCRIPTION:The Borough of West Reading will be accepting bids for the sale of used vehicles in “as-is” condition. Bids will be received via public auction on the Municibid website www.municibid.com until 5:00 p.m. on July 14\, 2025.
URL:https://www.westreadingborough.com/event/surplus-vehicle-auction/
LOCATION:PA
CATEGORIES:Auctions
END:VEVENT
END:VCALENDAR