BEGIN:VCALENDAR
VERSION:2.0
PRODID:-//The Borough of West Reading, PA - ECPv6.15.20//NONSGML v1.0//EN
CALSCALE:GREGORIAN
METHOD:PUBLISH
X-ORIGINAL-URL:https://www.westreadingborough.com
X-WR-CALDESC:Events for The Borough of West Reading, PA
REFRESH-INTERVAL;VALUE=DURATION:PT1H
X-Robots-Tag:noindex
X-PUBLISHED-TTL:PT1H
BEGIN:VTIMEZONE
TZID:America/New_York
BEGIN:DAYLIGHT
TZOFFSETFROM:-0500
TZOFFSETTO:-0400
TZNAME:EDT
DTSTART:20240310T070000
END:DAYLIGHT
BEGIN:STANDARD
TZOFFSETFROM:-0400
TZOFFSETTO:-0500
TZNAME:EST
DTSTART:20241103T060000
END:STANDARD
BEGIN:DAYLIGHT
TZOFFSETFROM:-0500
TZOFFSETTO:-0400
TZNAME:EDT
DTSTART:20250309T070000
END:DAYLIGHT
BEGIN:STANDARD
TZOFFSETFROM:-0400
TZOFFSETTO:-0500
TZNAME:EST
DTSTART:20251102T060000
END:STANDARD
BEGIN:DAYLIGHT
TZOFFSETFROM:-0500
TZOFFSETTO:-0400
TZNAME:EDT
DTSTART:20260308T070000
END:DAYLIGHT
BEGIN:STANDARD
TZOFFSETFROM:-0400
TZOFFSETTO:-0500
TZNAME:EST
DTSTART:20261101T060000
END:STANDARD
END:VTIMEZONE
BEGIN:VEVENT
DTSTART;TZID=America/New_York:20251203T180000
DTEND;TZID=America/New_York:20251203T180000
DTSTAMP:20260422T191135
CREATED:20251028T142841Z
LAST-MODIFIED:20251121T164532Z
UID:10000045-1764784800-1764784800@www.westreadingborough.com
SUMMARY:Cancelled - Planning Commission Meeting
DESCRIPTION:
URL:https://www.westreadingborough.com/event/planning-commission-meeting-2/
LOCATION:West Reading Borough Hall\, 500 Chestnut Street\, West Reading\, PA\, 19611\, United States
CATEGORIES:Planning Commission Meeting,Public Meeting
ATTACH;FMTTYPE=image/jpeg:https://www.westreadingborough.com/wp-content/uploads/2025/07/event-Borough-Hall.jpg
END:VEVENT
BEGIN:VEVENT
DTSTART;TZID=America/New_York:20251202T180000
DTEND;TZID=America/New_York:20251202T180000
DTSTAMP:20260422T191135
CREATED:20251028T125608Z
LAST-MODIFIED:20251028T144027Z
UID:10000032-1764698400-1764698400@www.westreadingborough.com
SUMMARY:Recreation Commission Meeting
DESCRIPTION:
URL:https://www.westreadingborough.com/event/recreation-commission-meeting/
LOCATION:West Reading Borough Hall\, 500 Chestnut Street\, West Reading\, PA\, 19611\, United States
CATEGORIES:Public Meeting
ATTACH;FMTTYPE=image/jpeg:https://www.westreadingborough.com/wp-content/uploads/2025/07/Recreation-Commission-01.jpg
END:VEVENT
BEGIN:VEVENT
DTSTART;TZID=America/New_York:20251201T180000
DTEND;TZID=America/New_York:20251201T180000
DTSTAMP:20260422T191135
CREATED:20251028T125057Z
LAST-MODIFIED:20251121T135752Z
UID:10000031-1764612000-1764612000@www.westreadingborough.com
SUMMARY:Cancelled - Shade Tree Commission Meeting
DESCRIPTION:
URL:https://www.westreadingborough.com/event/shade-tree-commission-meeting-3/
LOCATION:West Reading Borough Hall\, 500 Chestnut Street\, West Reading\, PA\, 19611\, United States
CATEGORIES:Public Meeting,Shade Tree Commission
ATTACH;FMTTYPE=image/jpeg:https://www.westreadingborough.com/wp-content/uploads/2025/10/Shade-Planning-01.jpg
END:VEVENT
BEGIN:VEVENT
DTSTART;VALUE=DATE:20251128
DTEND;VALUE=DATE:20251129
DTSTAMP:20260422T191135
CREATED:20251028T135403Z
LAST-MODIFIED:20251028T135403Z
UID:10000034-1764288000-1764374399@www.westreadingborough.com
SUMMARY:Friday after Thanksgiving Holiday
DESCRIPTION:Borough Hall will be closed in observance of Black Friday. However\, if you require Police assistance or if you have a sewer back-up\, please call our after-hours non-emergency number 610-373-0111. The dispatcher will have Borough personnel contact you.
URL:https://www.westreadingborough.com/event/friday-after-thanksgiving-holiday/
LOCATION:PA
CATEGORIES:Holiday
ATTACH;FMTTYPE=image/jpeg:https://www.westreadingborough.com/wp-content/uploads/2025/10/Friday-After-Thanksgiving-01.jpg
END:VEVENT
BEGIN:VEVENT
DTSTART;VALUE=DATE:20251127
DTEND;VALUE=DATE:20251128
DTSTAMP:20260422T191135
CREATED:20251028T135240Z
LAST-MODIFIED:20251118T212440Z
UID:10000033-1764201600-1764287999@www.westreadingborough.com
SUMMARY:Thanksgiving Day
DESCRIPTION:Borough Hall will be closed in observance of Thanksgiving Day. However\, if you require Police assistance or if you have a sewer back-up\, please call our after-hours non-emergency number 610-373-0111. The dispatcher will have Borough personnel contact you.
URL:https://www.westreadingborough.com/event/thanksgiving-day/
LOCATION:PA
CATEGORIES:Holiday
ATTACH;FMTTYPE=image/jpeg:https://www.westreadingborough.com/wp-content/uploads/2025/10/Thanksgiving-01.jpg
END:VEVENT
BEGIN:VEVENT
DTSTART;TZID=America/New_York:20251125T180000
DTEND;TZID=America/New_York:20251125T180000
DTSTAMP:20260422T191135
CREATED:20251028T121537Z
LAST-MODIFIED:20251121T140222Z
UID:10000021-1764093600-1764093600@www.westreadingborough.com
SUMMARY:Cancelled - Borough Council Meeting
DESCRIPTION:
URL:https://www.westreadingborough.com/event/borough-council-meeting-4/
LOCATION:West Reading Borough Hall\, 500 Chestnut Street\, West Reading\, PA\, 19611\, United States
CATEGORIES:Borough Council Meeting,Public Meeting
ATTACH;FMTTYPE=image/jpeg:https://www.westreadingborough.com/wp-content/uploads/2025/10/Borough-Council-Meeting-01.jpg
END:VEVENT
BEGIN:VEVENT
DTSTART;TZID=America/New_York:20251125T170000
DTEND;TZID=America/New_York:20251125T193000
DTSTAMP:20260422T191135
CREATED:20251029T151408Z
LAST-MODIFIED:20251112T211403Z
UID:10000046-1764090000-1764099000@www.westreadingborough.com
SUMMARY:Dungeons & Dragons Night at Bicentennial House
DESCRIPTION:
URL:https://www.westreadingborough.com/event/dungeons-dragons-night-at-bicentennial-house/
LOCATION:Bicentennial House\, 201 Playground Drive\, West Reading\, PA\, 19611\, United States
CATEGORIES:Recreation
ATTACH;FMTTYPE=image/jpeg:https://www.westreadingborough.com/wp-content/uploads/2025/10/Dungeons-Dragons-Night-at-Bicentennial-House-01.jpg
END:VEVENT
BEGIN:VEVENT
DTSTART;TZID=America/New_York:20251124T180000
DTEND;TZID=America/New_York:20251124T180000
DTSTAMP:20260422T191135
CREATED:20251028T142409Z
LAST-MODIFIED:20251028T200652Z
UID:10000043-1764007200-1764007200@www.westreadingborough.com
SUMMARY:Environmental Advisory Council Meeting
DESCRIPTION:
URL:https://www.westreadingborough.com/event/environmental-advisory-council-meeting-2/
LOCATION:West Reading Borough Hall\, 500 Chestnut Street\, West Reading\, PA\, 19611\, United States
CATEGORIES:Environmental Advisory Council Meeting,Public Meeting
ATTACH;FMTTYPE=image/jpeg:https://www.westreadingborough.com/wp-content/uploads/2025/10/Environmental-Advisory-Council-01.jpg
END:VEVENT
BEGIN:VEVENT
DTSTART;TZID=America/New_York:20251118T190000
DTEND;TZID=America/New_York:20251118T190000
DTSTAMP:20260422T191135
CREATED:20251028T121423Z
LAST-MODIFIED:20251119T135242Z
UID:10000020-1763492400-1763492400@www.westreadingborough.com
SUMMARY:Borough Council Meeting
DESCRIPTION:A recording of this meeting can be viewed here. When prompted\, enter passcode: @8LT^?3k
URL:https://www.westreadingborough.com/event/borough-council-meeting-3/
LOCATION:West Reading Borough Hall\, 500 Chestnut Street\, West Reading\, PA\, 19611\, United States
CATEGORIES:Borough Council Meeting,Public Meeting
ATTACH;FMTTYPE=image/jpeg:https://www.westreadingborough.com/wp-content/uploads/2025/10/Borough-Council-Meeting-01.jpg
END:VEVENT
BEGIN:VEVENT
DTSTART;TZID=America/New_York:20251113T180000
DTEND;TZID=America/New_York:20251113T180000
DTSTAMP:20260422T191135
CREATED:20251028T141719Z
LAST-MODIFIED:20251111T133922Z
UID:10000040-1763056800-1763056800@www.westreadingborough.com
SUMMARY:Canceled - Finance Committee Meeting
DESCRIPTION:
URL:https://www.westreadingborough.com/event/finance-committee-meeting-2/
LOCATION:West Reading Borough Hall\, 500 Chestnut Street\, West Reading\, PA\, 19611\, United States
CATEGORIES:Finance Committee Meeting,Public Meeting
ATTACH;FMTTYPE=image/jpeg:https://www.westreadingborough.com/wp-content/uploads/2025/07/event-Borough-Hall.jpg
END:VEVENT
BEGIN:VEVENT
DTSTART;TZID=America/New_York:20251112T180000
DTEND;TZID=America/New_York:20251112T180000
DTSTAMP:20260422T191135
CREATED:20250707T201121Z
LAST-MODIFIED:20251028T200806Z
UID:10000006-1762970400-1762970400@www.westreadingborough.com
SUMMARY:Traffic & Infrastructure Committee Meeting
DESCRIPTION:
URL:https://www.westreadingborough.com/event/traffic-infrastructure-committee-meeting/
LOCATION:West Reading Borough Hall\, 500 Chestnut Street\, West Reading\, PA\, 19611\, United States
CATEGORIES:Public Meeting,Traffic & Infrastructure Committee Meeting
ATTACH;FMTTYPE=image/jpeg:https://www.westreadingborough.com/wp-content/uploads/2025/07/event-Borough-Hall.jpg
END:VEVENT
BEGIN:VEVENT
DTSTART;VALUE=DATE:20251111
DTEND;VALUE=DATE:20251112
DTSTAMP:20260422T191135
CREATED:20251028T135909Z
LAST-MODIFIED:20251028T135909Z
UID:10000035-1762819200-1762905599@www.westreadingborough.com
SUMMARY:Veteran's Day
DESCRIPTION:Borough Hall will be closed in observance of Veteran’s Day. However\, if you require Police assistance or if you have a sewer back-up\, please call our after-hours non-emergency number 610-373-0111. The dispatcher will have Borough personnel contact you.
URL:https://www.westreadingborough.com/event/veterans-day/
LOCATION:PA
CATEGORIES:Holiday
ATTACH;FMTTYPE=image/jpeg:https://www.westreadingborough.com/wp-content/uploads/2025/10/Veterans-Day-01.jpg
END:VEVENT
BEGIN:VEVENT
DTSTART;TZID=America/New_York:20251110T180000
DTEND;TZID=America/New_York:20251110T180000
DTSTAMP:20260422T191135
CREATED:20250707T201052Z
LAST-MODIFIED:20251106T185724Z
UID:10000005-1762797600-1762797600@www.westreadingborough.com
SUMMARY:Cancelled - Economic Development Committee Meeting
DESCRIPTION:
URL:https://www.westreadingborough.com/event/economic-development-committee-meeting/
LOCATION:West Reading Borough Hall\, 500 Chestnut Street\, West Reading\, PA\, 19611\, United States
CATEGORIES:Economic Development Committee Meeting,Public Meeting
ATTACH;FMTTYPE=image/jpeg:https://www.westreadingborough.com/wp-content/uploads/2025/07/event-Borough-Hall.jpg
END:VEVENT
BEGIN:VEVENT
DTSTART;TZID=America/New_York:20251108T090000
DTEND;TZID=America/New_York:20251108T090000
DTSTAMP:20260422T191135
CREATED:20251028T140456Z
LAST-MODIFIED:20251118T231731Z
UID:10000037-1762592400-1762592400@www.westreadingborough.com
SUMMARY:Borough Council Budget Meeting
DESCRIPTION:A recording of this meeting can be viewed here: https://us02web.zoom.us/rec/play/hB1B_TzEmi0sfIq-7nG6WkQQc5GhCrjwlL6npTH49ME82mfIT3EyPIPW8eyMxtRJAD9oROSvvY3dWotx.2tLUSUVU5X6Ofcby?eagerLoadZvaPages=sidemenu.billing.plan_management&isReferralProgramEnabled=false&isReferralProgramAvailable=false&accessLevel=meeting&canPlayFromShare=true&from=my_recording&continueMode=true&componentName=rec-play&originRequestUrl=https%3A%2F%2Fus02web.zoom.us%2Frec%2Fshare%2FIauFdnt5QoaNaMxla4SCvLf-GvXXMdKww1iw1bqVABRZ1V50uzb3UDknDD-cyNhB.OEoFWS26diWYikNg \nWhen prompted\, enter passcode: H7A8k#Q3
URL:https://www.westreadingborough.com/event/borough-council-budget-meeting/
LOCATION:West Reading Borough Hall\, 500 Chestnut Street\, West Reading\, PA\, 19611\, United States
CATEGORIES:Borough Council Meeting,Public Meeting
ATTACH;FMTTYPE=image/jpeg:https://www.westreadingborough.com/wp-content/uploads/2025/10/Borough-Council-Meeting-01.jpg
END:VEVENT
BEGIN:VEVENT
DTSTART;TZID=America/New_York:20251105T180000
DTEND;TZID=America/New_York:20251105T180000
DTSTAMP:20260422T191135
CREATED:20250707T201024Z
LAST-MODIFIED:20251028T201036Z
UID:10000004-1762365600-1762365600@www.westreadingborough.com
SUMMARY:Planning Commission Meeting
DESCRIPTION:
URL:https://www.westreadingborough.com/event/planning-commission-meeting/
LOCATION:West Reading Borough Hall\, 500 Chestnut Street\, West Reading\, PA\, 19611\, United States
CATEGORIES:Planning Commission Meeting,Public Meeting
ATTACH;FMTTYPE=image/jpeg:https://www.westreadingborough.com/wp-content/uploads/2025/07/event-Borough-Hall.jpg
END:VEVENT
BEGIN:VEVENT
DTSTART;TZID=America/New_York:20251104T070000
DTEND;TZID=America/New_York:20251104T200000
DTSTAMP:20260422T191135
CREATED:20251028T140251Z
LAST-MODIFIED:20251028T140251Z
UID:10000036-1762239600-1762286400@www.westreadingborough.com
SUMMARY:Election Day
DESCRIPTION:
URL:https://www.westreadingborough.com/event/election-day/
LOCATION:PA
CATEGORIES:Event
ATTACH;FMTTYPE=image/jpeg:https://www.westreadingborough.com/wp-content/uploads/2025/10/Election-Day-01.jpg
END:VEVENT
BEGIN:VEVENT
DTSTART;TZID=America/New_York:20251103T180000
DTEND;TZID=America/New_York:20251103T180000
DTSTAMP:20260422T191135
CREATED:20251028T124953Z
LAST-MODIFIED:20251121T135138Z
UID:10000029-1762192800-1762192800@www.westreadingborough.com
SUMMARY:Cancelled - Shade Tree Commission Meeting
DESCRIPTION:
URL:https://www.westreadingborough.com/event/shade-tree-commission-meeting-2/
LOCATION:West Reading Borough Hall\, 500 Chestnut Street\, West Reading\, PA\, 19611\, United States
CATEGORIES:Public Meeting,Shade Tree Commission
ATTACH;FMTTYPE=image/jpeg:https://www.westreadingborough.com/wp-content/uploads/2025/10/Shade-Planning-01.jpg
END:VEVENT
BEGIN:VEVENT
DTSTART;TZID=America/New_York:20251103T180000
DTEND;TZID=America/New_York:20251103T180000
DTSTAMP:20260422T191135
CREATED:20250707T201349Z
LAST-MODIFIED:20251028T143403Z
UID:10000010-1762192800-1762192800@www.westreadingborough.com
SUMMARY:Recreation Commission Meeting - Bicentennial House
DESCRIPTION:
URL:https://www.westreadingborough.com/event/recreation-commission-meeting-bicentennial-house-11-03/
LOCATION:Bicentennial House\, 201 Playground Drive\, West Reading\, PA\, 19611\, United States
CATEGORIES:Public Meeting
ATTACH;FMTTYPE=image/jpeg:https://www.westreadingborough.com/wp-content/uploads/2025/07/Recreation-Commission-01.jpg
END:VEVENT
BEGIN:VEVENT
DTSTART;TZID=America/New_York:20251031T170000
DTEND;TZID=America/New_York:20251031T200000
DTSTAMP:20260422T191135
CREATED:20251028T124256Z
LAST-MODIFIED:20251028T141230Z
UID:10000028-1761930000-1761940800@www.westreadingborough.com
SUMMARY:Borough-Wide Trick-or-Treating
DESCRIPTION:Happy Halloween! Gather ghosts and goblins\, its that time of year for costumes\, jack-o-lanterns and candy corn! The annual family-friendly community Trick-or-Treat event will be held on Friday\, October 31\, 2025 from 5pm – 8pm. Suggestions for celebrating safely are: \n\nWalk in groups or with a trusted adult.\nFasten reflective tape to costumes and bags.\nWear a blinking light to help drivers see you.\nHold a flashlight while trick-or-treating to help you see and others see you.\nCross only at intersections and designated crosswalks.\nWatch out for open flames in pumpkins.\nOnly visit well-lit houses\, don’t stop at dark houses.\nDon’t approach unfamiliar pets and animals.\nDon’t cut through yards and stay out of backyards.\nBe polite and say “thank you”.\nExamine all treats for choking hazards and tampering before eating them.\nReport any suspicious or criminal activity to an adult or the police.\n\nMayor Samantha Kaag and the West Reading Police Department wishes all who take part a fun and safe Halloween!
URL:https://www.westreadingborough.com/event/borough-wide-trick-or-treating/
LOCATION:West Reading Park & Pavilion\, 505 Sycamore Road\, West Reading\, PA\, 19611\, United States
CATEGORIES:Event
ATTACH;FMTTYPE=image/jpeg:https://www.westreadingborough.com/wp-content/uploads/2025/10/Halloween-01.jpg
END:VEVENT
BEGIN:VEVENT
DTSTART;TZID=America/New_York:20251028T180000
DTEND;TZID=America/New_York:20251028T180000
DTSTAMP:20260422T191135
CREATED:20251028T121107Z
LAST-MODIFIED:20251028T165018Z
UID:10000019-1761674400-1761674400@www.westreadingborough.com
SUMMARY:Borough Council Meeting
DESCRIPTION:October 28\, 2025 – 6:00pm \nWest Reading Borough Hall\n500 Chestnut St\nWest Reading\n19611
URL:https://www.westreadingborough.com/event/borough-council-meeting-2/
LOCATION:West Reading Borough Hall\, 500 Chestnut Street\, West Reading\, PA\, 19611\, United States
CATEGORIES:Borough Council Meeting,Public Meeting
ATTACH;FMTTYPE=image/jpeg:https://www.westreadingborough.com/wp-content/uploads/2025/10/Borough-Council-Meeting-01.jpg
END:VEVENT
BEGIN:VEVENT
DTSTART;TZID=America/New_York:20250920T110000
DTEND;TZID=America/New_York:20250920T170000
DTSTAMP:20260422T191135
CREATED:20250723T193926Z
LAST-MODIFIED:20250723T195446Z
UID:10000012-1758366000-1758387600@www.westreadingborough.com
SUMMARY:West Reading Fall Fest
DESCRIPTION:Celebrating its 19th year and coming just a few days before the official first day of Fall is West Reading’s Fall Fest on Saturday September 20\, 2025 from 11-7pm. \nSpanning the 400-700 blocks of Penn Avenue\, the streets are closed so festival goers can indulge in 200 craft and retail vendors\, including a wide array of food and beverage choices\, including beer\, wine and spirits + music on three stages! \nThank you to our 2025 Sponsors Customers Bank\, Reading Hospital – Tower Health and The American Diner. \nMusic schedule: Drew & The Blue\, The Warped Band\, Daze of my Youth\, Cloud Party\, Die Tired\, The Tressels\, Peter Errich Band\, Bryan Betts\, Maggie Spike\, Let There Be Rock School Band\, Matt Kern\, Faux Fear\, Emme Ryan Band\, Vince Rollins\, Johnny Gallagher\, The Ty Faherty Band\, Love Shaak and Alex & EJ!
URL:https://www.westreadingborough.com/event/west-reading-fall-fest/
LOCATION:West Reading Park & Pavilion\, 505 Sycamore Road\, West Reading\, PA\, 19611\, United States
CATEGORIES:Event
ATTACH;FMTTYPE=image/jpeg:https://www.westreadingborough.com/wp-content/uploads/2025/07/event-Fall-Fest-2025.jpg
END:VEVENT
BEGIN:VEVENT
DTSTART;TZID=America/New_York:20250918T170000
DTEND;TZID=America/New_York:20250918T200000
DTSTAMP:20260422T191135
CREATED:20250807T125606Z
LAST-MODIFIED:20250807T125606Z
UID:10000015-1758214800-1758225600@www.westreadingborough.com
SUMMARY:Local Love Project
DESCRIPTION:New event\, starting Thursday\, August 21st\, we’re launching the Local Love project — a new monthly event happening every 3rd Thursday from 5–8 pm. \nParticipating retail shops will stay open late with exclusive promotions\, curated shopping experiences\, and one-of-a-kind finds you won’t want to miss. It’s the perfect night to explore\, discover something new\, and support your favorite local businesses. \nMark your calendar and show some Local Love!
URL:https://www.westreadingborough.com/event/local-love-project-3/
LOCATION:West Reading Park & Pavilion\, 505 Sycamore Road\, West Reading\, PA\, 19611\, United States
CATEGORIES:Event
ATTACH;FMTTYPE=image/jpeg:https://www.westreadingborough.com/wp-content/uploads/2025/08/event-Local-Love.jpg
END:VEVENT
BEGIN:VEVENT
DTSTART;TZID=America/New_York:20250912T180000
DTEND;TZID=America/New_York:20250912T200000
DTSTAMP:20260422T191135
CREATED:20250807T131515Z
LAST-MODIFIED:20250807T131515Z
UID:10000018-1757700000-1757707200@www.westreadingborough.com
SUMMARY:West Reading Summer 2nd Fridays
DESCRIPTION:2nd Friday in West Reading showcases live music from May – September and is hosted by the West Reading Community Revitalization Foundation (WRCRF)\, West Reading shops and businesses! \n2nd Friday on the Avenue is a time to celebrate and recognize our independent shops and locally owned restaurants! \nLocal live music plays during the warmer months (weather permitting\, May – September\, 6-8pm) to get your toes tapping as you stroll the Avenue. Featured act\, Sons of Phelan perform at the intersection of 6th Ave. and Penn Ave. from 6 to 8 PM. \nWest Reading is 100% committed to serving our community. \nWe invite the public to share their 2nd Friday adventures on our social media.
URL:https://www.westreadingborough.com/event/west-reading-summer-2nd-fridays-2/
LOCATION:West Reading Park & Pavilion\, 505 Sycamore Road\, West Reading\, PA\, 19611\, United States
CATEGORIES:Event
ATTACH;FMTTYPE=image/jpeg:https://www.westreadingborough.com/wp-content/uploads/2025/08/event-Summer-Concert-Series.jpg
END:VEVENT
BEGIN:VEVENT
DTSTART;TZID=America/New_York:20250831T160000
DTEND;TZID=America/New_York:20250831T200000
DTSTAMP:20260422T191135
CREATED:20250807T130530Z
LAST-MODIFIED:20250807T130530Z
UID:10000016-1756656000-1756670400@www.westreadingborough.com
SUMMARY:Battle of the West Reading Karaoke Stars
DESCRIPTION:Its’s that time again…. It’s time for the Battle of the West Reading Karaoke Stars! Will you be named the Champion? Trophy & bragging rights included. \nThis amazing competition comes around twice a year\, and it’s your time to shine\, all while raising money for West Reading Recreation. All funds raised during this competition\, helps the volunteers at the rec commission continue to put on amazing community events. \nRegistrations open’s at 3pm. Registration is $10. Get there early\, as we usually have lots of contestants and have to cut it of at 25 because of time. Each contestant will sing one song\, and the audience will vote with dollars for their favorites. The judges will also make some choices. The Judges choices\, and top vote earners will move on to the final round to battle it out for one last song. The judges will pick a judge’s champion from the final round\, but the audience will again vote with dollars and the top vote earner will be names the Battle Champion. So\, invite your friends and make sure they bring dollars to vote for you. \n****Remember\, it’s Karaoke\, not American Idol. You don’t need to be an amazing singer; you just need to be willing to have fun and put on a good show to get the crowd to vote for you and be willing to raise money for West Reading Recreation. Costumes\, Air instruments\, back up dancers\, etc. are all encouraged. We want you and the audience to have an amazing time. \n**Judges will be announced soon \n**You don’t have to live in West Reading \n**There is no age requirement to compete \n*********The best part about this competition is the top 10 will be invited to compete against Muhlenberg\, and potentially another townships top 10 in the ultimate Karaoke Battle for the Bragging rights to be the Berks County Karaoke Battle Champion! That competition is being worked out for September at Jim Dietrich Park in Muhlenberg and the details will be announced soon.
URL:https://www.westreadingborough.com/event/battle-of-the-west-reading-karaoke-stars/
LOCATION:3rd and Spruce Drafthaus\, 238 S 3rd Avenue\, West Reading\, PA\, 19611\, United States
CATEGORIES:Event
ATTACH;FMTTYPE=image/jpeg:https://www.westreadingborough.com/wp-content/uploads/2025/08/event-Karaoke-Stars.jpg
END:VEVENT
BEGIN:VEVENT
DTSTART;TZID=America/New_York:20250828T170000
DTEND;TZID=America/New_York:20250828T200000
DTSTAMP:20260422T191135
CREATED:20250807T125529Z
LAST-MODIFIED:20250807T125529Z
UID:10000014-1756400400-1756411200@www.westreadingborough.com
SUMMARY:Local Love Project
DESCRIPTION:New event\, starting Thursday\, August 21st\, we’re launching the Local Love project — a new monthly event happening every 3rd Thursday from 5–8 pm. \nParticipating retail shops will stay open late with exclusive promotions\, curated shopping experiences\, and one-of-a-kind finds you won’t want to miss. It’s the perfect night to explore\, discover something new\, and support your favorite local businesses. \nMark your calendar and show some Local Love!
URL:https://www.westreadingborough.com/event/local-love-project-2/
LOCATION:West Reading Park & Pavilion\, 505 Sycamore Road\, West Reading\, PA\, 19611\, United States
CATEGORIES:Event
ATTACH;FMTTYPE=image/jpeg:https://www.westreadingborough.com/wp-content/uploads/2025/08/event-Local-Love.jpg
END:VEVENT
BEGIN:VEVENT
DTSTART;TZID=America/New_York:20250825T180000
DTEND;TZID=America/New_York:20250825T180000
DTSTAMP:20260422T191135
CREATED:20250707T201320Z
LAST-MODIFIED:20251028T200653Z
UID:10000009-1756144800-1756144800@www.westreadingborough.com
SUMMARY:Environmental Advisory Council Meeting
DESCRIPTION:
URL:https://www.westreadingborough.com/event/environmental-advisory-council-meeting/
LOCATION:West Reading Borough Hall\, 500 Chestnut Street\, West Reading\, PA\, 19611\, United States
CATEGORIES:Environmental Advisory Council Meeting,Public Meeting
ATTACH;FMTTYPE=image/jpeg:https://www.westreadingborough.com/wp-content/uploads/2025/10/Environmental-Advisory-Council-01.jpg
END:VEVENT
BEGIN:VEVENT
DTSTART;TZID=America/New_York:20250821T170000
DTEND;TZID=America/New_York:20250821T200000
DTSTAMP:20260422T191135
CREATED:20250807T124737Z
LAST-MODIFIED:20250807T124737Z
UID:10000013-1755795600-1755806400@www.westreadingborough.com
SUMMARY:Local Love Project
DESCRIPTION:New event\, starting Thursday\, August 21st\, we’re launching the Local Love project — a new monthly event happening every 3rd Thursday from 5–8 pm. \nParticipating retail shops will stay open late with exclusive promotions\, curated shopping experiences\, and one-of-a-kind finds you won’t want to miss. It’s the perfect night to explore\, discover something new\, and support your favorite local businesses. \nMark your calendar and show some Local Love!
URL:https://www.westreadingborough.com/event/local-love-project/
LOCATION:West Reading Park & Pavilion\, 505 Sycamore Road\, West Reading\, PA\, 19611\, United States
CATEGORIES:Event
ATTACH;FMTTYPE=image/jpeg:https://www.westreadingborough.com/wp-content/uploads/2025/08/event-Local-Love.jpg
END:VEVENT
BEGIN:VEVENT
DTSTART;TZID=America/New_York:20250819T190000
DTEND;TZID=America/New_York:20250819T190000
DTSTAMP:20260422T191135
CREATED:20250707T201239Z
LAST-MODIFIED:20251028T165018Z
UID:10000008-1755630000-1755630000@www.westreadingborough.com
SUMMARY:Borough Council Meeting
DESCRIPTION:Due to technical issues\, the recording of this meeting took place in two separate segments. \nA recording of this meeting can be viewed here. When prompted enter passcode: 70C7h&^b \nA recording of this meeting can be viewed here. When prompted enter passcode: hHgIBt=7
URL:https://www.westreadingborough.com/event/borough-council-meeting/
LOCATION:West Reading Borough Hall\, 500 Chestnut Street\, West Reading\, PA\, 19611\, United States
CATEGORIES:Borough Council Meeting,Public Meeting
ATTACH;FMTTYPE=image/jpeg:https://www.westreadingborough.com/wp-content/uploads/2025/07/event-Borough-Hall.jpg
END:VEVENT
BEGIN:VEVENT
DTSTART;TZID=America/New_York:20250816T110000
DTEND;TZID=America/New_York:20250816T170000
DTSTAMP:20260422T191135
CREATED:20250723T193351Z
LAST-MODIFIED:20250723T195522Z
UID:10000011-1755342000-1755363600@www.westreadingborough.com
SUMMARY:West Reading French Fry Fest
DESCRIPTION:The 7th Annual West Reading French Fry Fest is an outdoor event showcasing each participating restaurant or vendor’s take on everyone’s favorite food: French fries! \nBy popular request we have expanded the fest to the 600 – 700 blocks (pedestrian only!) of Penn Avenue. \nWith the best French Fries and local vendors\, the West Reading French Fry Fest has something for everyone; an amazing Summer event that continues to grow in size and popularity! \nAdmission is FREE + French fries are pay-as-you-go! This is a cash friendly event and there will be ATM’s on site. \nThank you to our 2025 sponsors:\nMendez Flooring and Tile \nCome hungry\, bring your friends\, and support local! 🍟🎶  You won’t want to miss it!
URL:https://www.westreadingborough.com/event/west-reading-french-fry-fest/
LOCATION:West Reading Park & Pavilion\, 505 Sycamore Road\, West Reading\, PA\, 19611\, United States
CATEGORIES:Event
ATTACH;FMTTYPE=image/jpeg:https://www.westreadingborough.com/wp-content/uploads/2025/07/event-French-Fry-Fest-2025.jpg
END:VEVENT
BEGIN:VEVENT
DTSTART;TZID=America/New_York:20250814T180000
DTEND;TZID=America/New_York:20250814T180000
DTSTAMP:20260422T191135
CREATED:20250707T201149Z
LAST-MODIFIED:20251028T200528Z
UID:10000007-1755194400-1755194400@www.westreadingborough.com
SUMMARY:Finance Committee Meeting
DESCRIPTION:
URL:https://www.westreadingborough.com/event/finance-committee-meeting/
LOCATION:West Reading Borough Hall\, 500 Chestnut Street\, West Reading\, PA\, 19611\, United States
CATEGORIES:Finance Committee Meeting,Public Meeting
ATTACH;FMTTYPE=image/jpeg:https://www.westreadingborough.com/wp-content/uploads/2025/07/event-Borough-Hall.jpg
END:VEVENT
END:VCALENDAR