BEGIN:VCALENDAR
VERSION:2.0
PRODID:-//The Borough of West Reading, PA - ECPv6.15.20//NONSGML v1.0//EN
CALSCALE:GREGORIAN
METHOD:PUBLISH
X-ORIGINAL-URL:https://www.westreadingborough.com
X-WR-CALDESC:Events for The Borough of West Reading, PA
REFRESH-INTERVAL;VALUE=DURATION:PT1H
X-Robots-Tag:noindex
X-PUBLISHED-TTL:PT1H
BEGIN:VTIMEZONE
TZID:America/New_York
BEGIN:DAYLIGHT
TZOFFSETFROM:-0500
TZOFFSETTO:-0400
TZNAME:EDT
DTSTART:20240310T070000
END:DAYLIGHT
BEGIN:STANDARD
TZOFFSETFROM:-0400
TZOFFSETTO:-0500
TZNAME:EST
DTSTART:20241103T060000
END:STANDARD
BEGIN:DAYLIGHT
TZOFFSETFROM:-0500
TZOFFSETTO:-0400
TZNAME:EDT
DTSTART:20250309T070000
END:DAYLIGHT
BEGIN:STANDARD
TZOFFSETFROM:-0400
TZOFFSETTO:-0500
TZNAME:EST
DTSTART:20251102T060000
END:STANDARD
BEGIN:DAYLIGHT
TZOFFSETFROM:-0500
TZOFFSETTO:-0400
TZNAME:EDT
DTSTART:20260308T070000
END:DAYLIGHT
BEGIN:STANDARD
TZOFFSETFROM:-0400
TZOFFSETTO:-0500
TZNAME:EST
DTSTART:20261101T060000
END:STANDARD
BEGIN:DAYLIGHT
TZOFFSETFROM:-0500
TZOFFSETTO:-0400
TZNAME:EDT
DTSTART:20270314T070000
END:DAYLIGHT
BEGIN:STANDARD
TZOFFSETFROM:-0400
TZOFFSETTO:-0500
TZNAME:EST
DTSTART:20271107T060000
END:STANDARD
END:VTIMEZONE
BEGIN:VEVENT
DTSTART;TZID=America/New_York:20260114T180000
DTEND;TZID=America/New_York:20260114T180000
DTSTAMP:20260422T163740
CREATED:20260114T195320Z
LAST-MODIFIED:20260114T195321Z
UID:10000261-1768413600-1768413600@www.westreadingborough.com
SUMMARY:Traffic & Infrastructure Committee Meeting
DESCRIPTION:West Reading Borough is inviting you to a scheduled Zoom meeting. \nTopic: Traffic & Infrastructure Committee Meeting\nTime: Jan 14\, 2026 06:00 PM Eastern Time (US and Canada)\nJoin Zoom Meeting\nhttps://us02web.zoom.us/j/87848896799?pwd=InmNFifraJn07nq4l7tkBxASWFnRAk.1 \nMeeting ID: 878 4889 6799\nPasscode: 866759 \n— \nOne tap mobile\n+13052241968\,\,87848896799#\,\,\,\,*866759# US\n+13092053325\,\,87848896799#\,\,\,\,*866759# US \nJoin instructions\nhttps://us02web.zoom.us/meetings/87848896799/invitations?signature=Cr4H24VnKznsOzJmEg6TJHC4QnHZSbi_u6AEoVhpfbk \n 
URL:https://www.westreadingborough.com/event/traffic-infrastructure-committee-meeting-3-2/
LOCATION:West Reading Borough Hall\, 500 Chestnut Street\, West Reading\, PA\, 19611\, United States
CATEGORIES:Traffic & Infrastructure Committee Meeting
ATTACH;FMTTYPE=image/jpeg:https://www.westreadingborough.com/wp-content/uploads/2025/10/Case-Study-West-Reading-PA.jpg
END:VEVENT
BEGIN:VEVENT
DTSTART;TZID=America/New_York:20260112T180000
DTEND;TZID=America/New_York:20260112T180000
DTSTAMP:20260422T163740
CREATED:20260109T215740Z
LAST-MODIFIED:20260109T215741Z
UID:10000309-1768240800-1768240800@www.westreadingborough.com
SUMMARY:Cancelled - Economic Development Committee Meeting
DESCRIPTION:
URL:https://www.westreadingborough.com/event/economic-development-committee-2/
LOCATION:West Reading Borough Hall\, 500 Chestnut Street\, West Reading\, PA\, 19611\, United States
CATEGORIES:Economic Development Committee Meeting,Event
ATTACH;FMTTYPE=image/jpeg:https://www.westreadingborough.com/wp-content/uploads/2025/10/Case-Study-West-Reading-PA.jpg
END:VEVENT
BEGIN:VEVENT
DTSTART;TZID=America/New_York:20260107T180000
DTEND;TZID=America/New_York:20260107T180000
DTSTAMP:20260422T163740
CREATED:20260108T134631Z
LAST-MODIFIED:20260108T134632Z
UID:10000189-1767808800-1767808800@www.westreadingborough.com
SUMMARY:Planning Commission Meeting
DESCRIPTION:A recording of this meeting can be viewed here. When prompted\, enter passcode: 2^cC^eqU
URL:https://www.westreadingborough.com/event/planning-commission-meeting-3-2/
LOCATION:West Reading Borough Hall\, 500 Chestnut Street\, West Reading\, PA\, 19611\, United States
CATEGORIES:Planning Commission Meeting
ATTACH;FMTTYPE=image/jpeg:https://www.westreadingborough.com/wp-content/uploads/2025/10/Borough-Council-Meeting-01.jpg
END:VEVENT
BEGIN:VEVENT
DTSTART;TZID=America/New_York:20260106T180000
DTEND;TZID=America/New_York:20260106T180000
DTSTAMP:20260422T163740
CREATED:20251223T211714Z
LAST-MODIFIED:20251223T211831Z
UID:10000249-1767722400-1767722400@www.westreadingborough.com
SUMMARY:Recreation Commission Meeting
DESCRIPTION:
URL:https://www.westreadingborough.com/event/recreation-commission-meeting-2/2026-01-06/
LOCATION:West Reading Borough Hall\, 500 Chestnut Street\, West Reading\, PA\, 19611\, United States
CATEGORIES:Recreation
ATTACH;FMTTYPE=image/jpeg:https://www.westreadingborough.com/wp-content/uploads/2025/10/Case-Study-West-Reading-PA.jpg
END:VEVENT
BEGIN:VEVENT
DTSTART;TZID=America/New_York:20260105T180000
DTEND;TZID=America/New_York:20260105T180000
DTSTAMP:20260422T163740
CREATED:20251218T211548Z
LAST-MODIFIED:20260106T172622Z
UID:10000065-1767636000-1767636000@www.westreadingborough.com
SUMMARY:Borough Council Reorganization Meeting
DESCRIPTION:A recording of this meeting can be viewed here. When prompted\, enter passcode: v#v1#mzp \n 
URL:https://www.westreadingborough.com/event/borough-council-meeting-7/
LOCATION:West Reading Borough Hall\, 500 Chestnut Street\, West Reading\, PA\, 19611\, United States
CATEGORIES:Borough Council Meeting
ATTACH;FMTTYPE=image/jpeg:https://www.westreadingborough.com/wp-content/uploads/2025/10/Case-Study-West-Reading-PA.jpg
END:VEVENT
BEGIN:VEVENT
DTSTART;TZID=America/New_York:20260104T100000
DTEND;TZID=America/New_York:20260104T120000
DTSTAMP:20260422T163740
CREATED:20251202T133023Z
LAST-MODIFIED:20260131T120126Z
UID:10000054-1767520800-1767528000@www.westreadingborough.com
SUMMARY:West Reading Farmers Market
DESCRIPTION:The biweekly Sunday Winter Farmers’ Market will take place in the West Reading Shopping Center parking lot\, 525 Penn Avenue\, West Reading\, from 10 AM to 12 PM\, rain or shine. \nThe WRFM is celebrating its 19th season as a year-round\, outdoor\, producer-only market\, meaning every vendor is a hand-picked\, small-scale farmer (produce\, livestock\, or dairy) or a food business located within 50 miles of West Reading. Each item is grown\, raised\, or hand-made. Our goals include educating our customer base on the benefits and positive impact of supporting locally grown and produced foods. We offer a variety of seasonal vegetables and fruits\, artisan pastries\, organic breads and sweet treats\, pastured meats and poultry and eggs\, cheeses\, raw local honey\, hand-made ravioli\, pierogi\, and pasta\, cooking oils\, roasted coffee and tea\, fresh cut flowers\, herbal tinctures and body products\, locally fermented cider\, and beer. We encourage our value-added producers to use local ingredients wherever possible.
URL:https://www.westreadingborough.com/event/west-reading-farmers-market/2026-01-04/
LOCATION:West Reading Shopping Center\, 525 Penn Avenue\, West Reading\, PA\, 19611\, United States
CATEGORIES:Community Event
ATTACH;FMTTYPE=image/jpeg:https://www.westreadingborough.com/wp-content/uploads/2025/12/wrb-farmers-market.jpg
END:VEVENT
BEGIN:VEVENT
DTSTART;VALUE=DATE:20260101
DTEND;VALUE=DATE:20260102
DTSTAMP:20260422T163740
CREATED:20251028T123346Z
LAST-MODIFIED:20251028T141230Z
UID:10000027-1767225600-1767311999@www.westreadingborough.com
SUMMARY:New Year's Day
DESCRIPTION:Borough Hall will be closed in observance of New Year’s Day. However\, if you require Police assistance or if you have a sewer back-up\, please call our after-hours non-emergency number 610-373-0111. The dispatcher will have Borough personnel contact you.
URL:https://www.westreadingborough.com/event/new-years-day/
LOCATION:PA
CATEGORIES:Holiday
ATTACH;FMTTYPE=image/jpeg:https://www.westreadingborough.com/wp-content/uploads/2025/10/New-Year-01.jpg
END:VEVENT
BEGIN:VEVENT
DTSTART;VALUE=DATE:20251231
DTEND;VALUE=DATE:20260101
DTSTAMP:20260422T163740
CREATED:20251028T123252Z
LAST-MODIFIED:20251028T123356Z
UID:10000026-1767139200-1767225599@www.westreadingborough.com
SUMMARY:New Year's Eve Day
DESCRIPTION:Borough Hall will be closed in observance of New Year’s Eve Day. However\, if you require Police assistance or if you have a sewer back-up\, please call our after-hours non-emergency number 610-373-0111. The dispatcher will have Borough personnel contact you.
URL:https://www.westreadingborough.com/event/282936/
LOCATION:PA
CATEGORIES:Holiday
ATTACH;FMTTYPE=image/jpeg:https://www.westreadingborough.com/wp-content/uploads/2025/10/New-Year-01.jpg
END:VEVENT
BEGIN:VEVENT
DTSTART;VALUE=DATE:20251225
DTEND;VALUE=DATE:20251226
DTSTAMP:20260422T163740
CREATED:20251028T122533Z
LAST-MODIFIED:20251118T213517Z
UID:10000024-1766620800-1766707199@www.westreadingborough.com
SUMMARY:Christmas Day
DESCRIPTION:Borough Hall will be closed in observance of Christmas Day. However\, if you require Police assistance or have a sewer back-up\, please call our after-hours non-emergency number at 610-373-0111. The dispatcher will have Borough personnel contact you.
URL:https://www.westreadingborough.com/event/christmas-eve/
LOCATION:PA
CATEGORIES:Holiday
ATTACH;FMTTYPE=image/jpeg:https://www.westreadingborough.com/wp-content/uploads/2025/10/Christmas-01.jpg
END:VEVENT
BEGIN:VEVENT
DTSTART;VALUE=DATE:20251224
DTEND;VALUE=DATE:20251225
DTSTAMP:20260422T163740
CREATED:20251028T122615Z
LAST-MODIFIED:20251118T212608Z
UID:10000025-1766534400-1766620799@www.westreadingborough.com
SUMMARY:Christmas Eve
DESCRIPTION:Borough Hall will be closed in observance of Christmas Day. However\, if you require Police assistance or if you have a sewer back-up\, please call our after-hours non-emergency number 610-373-0111. The dispatcher will have Borough personnel contact you.
URL:https://www.westreadingborough.com/event/christmas-eve-2/
LOCATION:PA
CATEGORIES:Holiday
ATTACH;FMTTYPE=image/jpeg:https://www.westreadingborough.com/wp-content/uploads/2025/10/Christmas-01.jpg
END:VEVENT
BEGIN:VEVENT
DTSTART;TZID=America/New_York:20251223T180000
DTEND;TZID=America/New_York:20251223T180000
DTSTAMP:20260422T163740
CREATED:20251028T121648Z
LAST-MODIFIED:20251223T105317Z
UID:10000023-1766512800-1766512800@www.westreadingborough.com
SUMMARY:Cancelled - Borough Council Meeting
DESCRIPTION:
URL:https://www.westreadingborough.com/event/borough-council-meeting-6/
LOCATION:West Reading Borough Hall\, 500 Chestnut Street\, West Reading\, PA\, 19611\, United States
CATEGORIES:Borough Council Meeting,Public Meeting
ATTACH;FMTTYPE=image/jpeg:https://www.westreadingborough.com/wp-content/uploads/2025/10/Borough-Council-Meeting-01.jpg
END:VEVENT
BEGIN:VEVENT
DTSTART;TZID=America/New_York:20251222T180000
DTEND;TZID=America/New_York:20251222T180000
DTSTAMP:20260422T163740
CREATED:20251028T142552Z
LAST-MODIFIED:20251223T105241Z
UID:10000044-1766426400-1766426400@www.westreadingborough.com
SUMMARY:Cancelled - Environmental Advisory Council Meeting
DESCRIPTION:
URL:https://www.westreadingborough.com/event/environmental-advisory-council-meeting-3/
LOCATION:West Reading Borough Hall\, 500 Chestnut Street\, West Reading\, PA\, 19611\, United States
CATEGORIES:Environmental Advisory Council Meeting,Public Meeting
ATTACH;FMTTYPE=image/jpeg:https://www.westreadingborough.com/wp-content/uploads/2025/10/Environmental-Advisory-Council-01.jpg
END:VEVENT
BEGIN:VEVENT
DTSTART;TZID=America/New_York:20251221T100000
DTEND;TZID=America/New_York:20251221T120000
DTSTAMP:20260422T163740
CREATED:20251202T133023Z
LAST-MODIFIED:20260131T120126Z
UID:10000053-1766311200-1766318400@www.westreadingborough.com
SUMMARY:West Reading Farmers Market
DESCRIPTION:The biweekly Sunday Winter Farmers’ Market will take place in the West Reading Shopping Center parking lot\, 525 Penn Avenue\, West Reading\, from 10 AM to 12 PM\, rain or shine. \nThe WRFM is celebrating its 19th season as a year-round\, outdoor\, producer-only market\, meaning every vendor is a hand-picked\, small-scale farmer (produce\, livestock\, or dairy) or a food business located within 50 miles of West Reading. Each item is grown\, raised\, or hand-made. Our goals include educating our customer base on the benefits and positive impact of supporting locally grown and produced foods. We offer a variety of seasonal vegetables and fruits\, artisan pastries\, organic breads and sweet treats\, pastured meats and poultry and eggs\, cheeses\, raw local honey\, hand-made ravioli\, pierogi\, and pasta\, cooking oils\, roasted coffee and tea\, fresh cut flowers\, herbal tinctures and body products\, locally fermented cider\, and beer. We encourage our value-added producers to use local ingredients wherever possible.
URL:https://www.westreadingborough.com/event/west-reading-farmers-market/2025-12-21/
LOCATION:West Reading Shopping Center\, 525 Penn Avenue\, West Reading\, PA\, 19611\, United States
CATEGORIES:Community Event
ATTACH;FMTTYPE=image/jpeg:https://www.westreadingborough.com/wp-content/uploads/2025/12/wrb-farmers-market.jpg
END:VEVENT
BEGIN:VEVENT
DTSTART;VALUE=DATE:20251219
DTEND;VALUE=DATE:20251222
DTSTAMP:20260422T163740
CREATED:20251029T152355Z
LAST-MODIFIED:20251029T152355Z
UID:10000049-1766102400-1766361599@www.westreadingborough.com
SUMMARY:Holiday Home Decorating Contest 2025
DESCRIPTION:Get into the holiday spirit this season by decorating your home! Judges will be looking for creativity\, originality and overall presentation in the following categories: \n\nCreativity\nOriginality
URL:https://www.westreadingborough.com/event/holiday-home-decorating-contest-2025/
LOCATION:West Reading Park & Pavilion\, 505 Sycamore Road\, West Reading\, PA\, 19611\, United States
CATEGORIES:Recreation
ATTACH;FMTTYPE=image/jpeg:https://www.westreadingborough.com/wp-content/uploads/2025/10/Holiday-Home-Decorating-Contest-01.jpg
END:VEVENT
BEGIN:VEVENT
DTSTART;TZID=America/New_York:20251216T190000
DTEND;TZID=America/New_York:20251216T190000
DTSTAMP:20260422T163740
CREATED:20251028T121621Z
LAST-MODIFIED:20251217T144917Z
UID:10000022-1765911600-1765911600@www.westreadingborough.com
SUMMARY:Borough Council Meeting
DESCRIPTION:A recording of this meeting can be viewed here. When prompted\, enter passcode: Hha.VR62
URL:https://www.westreadingborough.com/event/borough-council-meeting-5/
LOCATION:West Reading Borough Hall\, 500 Chestnut Street\, West Reading\, PA\, 19611\, United States
CATEGORIES:Borough Council Meeting,Public Meeting
ATTACH;FMTTYPE=image/jpeg:https://www.westreadingborough.com/wp-content/uploads/2025/10/Borough-Council-Meeting-01.jpg
END:VEVENT
BEGIN:VEVENT
DTSTART;TZID=America/New_York:20251214T100000
DTEND;TZID=America/New_York:20251214T120000
DTSTAMP:20260422T163740
CREATED:20251202T171141Z
LAST-MODIFIED:20260131T115939Z
UID:10000063-1765706400-1765713600@www.westreadingborough.com
SUMMARY:West Reading Farmers Market
DESCRIPTION:The biweekly Sunday Winter Farmers’ Market will take place in the West Reading Shopping Center parking lot\, 525 Penn Avenue\, West Reading\, from 10 AM to 12 PM\, rain or shine. \nThe WRFM is celebrating its 19th season as a year-round\, outdoor\, producer-only market\, meaning every vendor is a hand-picked\, small-scale farmer (produce\, livestock\, or dairy) or a food business located within 50 miles of West Reading. Each item is grown\, raised\, or hand-made. Our goals include educating our customer base on the benefits and positive impact of supporting locally grown and produced foods. We offer a variety of seasonal vegetables and fruits\, artisan pastries\, organic breads and sweet treats\, pastured meats and poultry and eggs\, cheeses\, raw local honey\, hand-made ravioli\, pierogi\, and pasta\, cooking oils\, roasted coffee and tea\, fresh cut flowers\, herbal tinctures and body products\, locally fermented cider\, and beer. We encourage our value-added producers to use local ingredients wherever possible.
URL:https://www.westreadingborough.com/event/west-reading-farmers-market-2/
LOCATION:West Reading Shopping Center\, 525 Penn Avenue\, West Reading\, PA\, 19611\, United States
CATEGORIES:Community Event
ATTACH;FMTTYPE=image/jpeg:https://www.westreadingborough.com/wp-content/uploads/2025/12/wrb-farmers-market.jpg
END:VEVENT
BEGIN:VEVENT
DTSTART;TZID=America/New_York:20251213T140000
DTEND;TZID=America/New_York:20251213T160000
DTSTAMP:20260422T163740
CREATED:20251119T185710Z
LAST-MODIFIED:20251202T180504Z
UID:10000051-1765634400-1765641600@www.westreadingborough.com
SUMMARY:West Reading Fire Department Kiddie Christmas Party
DESCRIPTION:The West Reading Fire Department Kiddie Christmas Party is right around the corner. If you are a West Reading resident with a child 10 or under\, please register them to participate. We will have Santa and Mrs. Claus at the station to visit with the children\, and each Borough child will receive a toy and a snack. Please call the station at 610-372-9621 with any questions. \nRegistration must be completed online. Please be advised that this event is for residents of the Borough of West Reading. If you are not a resident\, your children are welcome to meet Santa\, but access to Santa’s toy room is only for West Reading residents. Residency confirmation will be reviewed in the fire station lobby.
URL:https://www.westreadingborough.com/event/west-reading-fire-department-kiddie-christmas-party/
LOCATION:West Reading Fire Department\, 223 Playground Drive\, West Reading\, PA\, 19611\, United States
CATEGORIES:Community Event
ATTACH;FMTTYPE=image/jpeg:https://www.westreadingborough.com/wp-content/uploads/2025/12/Christmas-Fire-Truck.jpg
END:VEVENT
BEGIN:VEVENT
DTSTART;TZID=America/New_York:20251211T180000
DTEND;TZID=America/New_York:20251211T180000
DTSTAMP:20260422T163740
CREATED:20251028T141917Z
LAST-MODIFIED:20251208T162501Z
UID:10000041-1765476000-1765476000@www.westreadingborough.com
SUMMARY:Cancelled - Finance Committee Meeting
DESCRIPTION:
URL:https://www.westreadingborough.com/event/finance-committee-meeting-3/
LOCATION:West Reading Borough Hall\, 500 Chestnut Street\, West Reading\, PA\, 19611\, United States
CATEGORIES:Finance Committee Meeting,Public Meeting
ATTACH;FMTTYPE=image/jpeg:https://www.westreadingborough.com/wp-content/uploads/2025/07/event-Borough-Hall.jpg
END:VEVENT
BEGIN:VEVENT
DTSTART;TZID=America/New_York:20251210T180000
DTEND;TZID=America/New_York:20251210T180000
DTSTAMP:20260422T163740
CREATED:20251028T140936Z
LAST-MODIFIED:20251028T200752Z
UID:10000039-1765389600-1765389600@www.westreadingborough.com
SUMMARY:Traffic & Infrastructure Committee Meeting
DESCRIPTION:
URL:https://www.westreadingborough.com/event/traffic-infrastructure-committee-meeting-2/
LOCATION:West Reading Borough Hall\, 500 Chestnut Street\, West Reading\, PA\, 19611\, United States
CATEGORIES:Public Meeting,Traffic & Infrastructure Committee Meeting
ATTACH;FMTTYPE=image/jpeg:https://www.westreadingborough.com/wp-content/uploads/2025/07/event-Borough-Hall.jpg
END:VEVENT
BEGIN:VEVENT
DTSTART;TZID=America/New_York:20251208T180000
DTEND;TZID=America/New_York:20251208T180000
DTSTAMP:20260422T163740
CREATED:20251029T152002Z
LAST-MODIFIED:20251029T152002Z
UID:10000048-1765216800-1765216800@www.westreadingborough.com
SUMMARY:*RAIN DATE* 97th Annual Tree Lighting Ceremony at Delaney Circle
DESCRIPTION:Join us at Delaney Circle for 97th Annual Tree Lighting Ceremony. The tradition began in 1928 when the first tree lighting was held in front of Borough Hall with only a few Council Members present. Little did our forefathers know that they launched what became a tree lighting tradition! The tree lighting ceremony was moved to Delaney Circle in the 1990’s where we can celebrate the night air with music\, dancing\, and warm wishes. \nFollowing the ceremony at Delaney Circle join us at St. James Church for an opportunity to meet Santa and Mrs. Clause!
URL:https://www.westreadingborough.com/event/rain-date-97th-annual-tree-lighting-ceremony-at-delaney-circle/
LOCATION:Delaney Circle\, Delaney Circle\, West Reading\, Pennsylvania\, 19611\, United States
CATEGORIES:Recreation
ATTACH;FMTTYPE=image/jpeg:https://www.westreadingborough.com/wp-content/uploads/2025/10/97th-Annual-Tree-Lighting-Ceremony-at-Delaney-Circle-01.jpg
END:VEVENT
BEGIN:VEVENT
DTSTART;TZID=America/New_York:20251208T180000
DTEND;TZID=America/New_York:20251208T180000
DTSTAMP:20260422T163740
CREATED:20251028T140559Z
LAST-MODIFIED:20251202T222300Z
UID:10000038-1765216800-1765216800@www.westreadingborough.com
SUMMARY:Cancelled - Economic Development Committee Meeting
DESCRIPTION:
URL:https://www.westreadingborough.com/event/economic-development-committee-meeting-2/
LOCATION:West Reading Borough Hall\, 500 Chestnut Street\, West Reading\, PA\, 19611\, United States
CATEGORIES:Economic Development Committee Meeting,Public Meeting
ATTACH;FMTTYPE=image/jpeg:https://www.westreadingborough.com/wp-content/uploads/2025/07/event-Borough-Hall.jpg
END:VEVENT
BEGIN:VEVENT
DTSTART;TZID=America/New_York:20251207T100000
DTEND;TZID=America/New_York:20251207T120000
DTSTAMP:20260422T163740
CREATED:20251202T133023Z
LAST-MODIFIED:20260131T120126Z
UID:10000052-1765101600-1765108800@www.westreadingborough.com
SUMMARY:West Reading Farmers Market
DESCRIPTION:The biweekly Sunday Winter Farmers’ Market will take place in the West Reading Shopping Center parking lot\, 525 Penn Avenue\, West Reading\, from 10 AM to 12 PM\, rain or shine. \nThe WRFM is celebrating its 19th season as a year-round\, outdoor\, producer-only market\, meaning every vendor is a hand-picked\, small-scale farmer (produce\, livestock\, or dairy) or a food business located within 50 miles of West Reading. Each item is grown\, raised\, or hand-made. Our goals include educating our customer base on the benefits and positive impact of supporting locally grown and produced foods. We offer a variety of seasonal vegetables and fruits\, artisan pastries\, organic breads and sweet treats\, pastured meats and poultry and eggs\, cheeses\, raw local honey\, hand-made ravioli\, pierogi\, and pasta\, cooking oils\, roasted coffee and tea\, fresh cut flowers\, herbal tinctures and body products\, locally fermented cider\, and beer. We encourage our value-added producers to use local ingredients wherever possible.
URL:https://www.westreadingborough.com/event/west-reading-farmers-market/2025-12-07/
LOCATION:West Reading Shopping Center\, 525 Penn Avenue\, West Reading\, PA\, 19611\, United States
CATEGORIES:Community Event
ATTACH;FMTTYPE=image/jpeg:https://www.westreadingborough.com/wp-content/uploads/2025/12/wrb-farmers-market.jpg
END:VEVENT
BEGIN:VEVENT
DTSTART;TZID=America/New_York:20251205T180000
DTEND;TZID=America/New_York:20251205T180000
DTSTAMP:20260422T163740
CREATED:20251029T151914Z
LAST-MODIFIED:20251029T151914Z
UID:10000047-1764957600-1764957600@www.westreadingborough.com
SUMMARY:97th Annual Tree Lighting Ceremony at Delaney Circle
DESCRIPTION:Join us at Delaney Circle for 97th Annual Tree Lighting Ceremony. The tradition began in 1928 when the first tree lighting was held in front of Borough Hall with only a few Council Members present. Little did our forefathers know that they launched what became a tree lighting tradition! The tree lighting ceremony was moved to Delaney Circle in the 1990’s where we can celebrate the night air with music\, dancing\, and warm wishes. \nFollowing the ceremony at Delaney Circle join us at St. James Church for an opportunity to meet Santa and Mrs. Clause!
URL:https://www.westreadingborough.com/event/97th-annual-tree-lighting-ceremony-at-delaney-circle/
LOCATION:Delaney Circle\, Delaney Circle\, West Reading\, Pennsylvania\, 19611\, United States
CATEGORIES:Recreation
ATTACH;FMTTYPE=image/jpeg:https://www.westreadingborough.com/wp-content/uploads/2025/10/97th-Annual-Tree-Lighting-Ceremony-at-Delaney-Circle-01.jpg
END:VEVENT
BEGIN:VEVENT
DTSTART;TZID=America/New_York:20251203T180000
DTEND;TZID=America/New_York:20251203T180000
DTSTAMP:20260422T163740
CREATED:20251028T142841Z
LAST-MODIFIED:20251121T164532Z
UID:10000045-1764784800-1764784800@www.westreadingborough.com
SUMMARY:Cancelled - Planning Commission Meeting
DESCRIPTION:
URL:https://www.westreadingborough.com/event/planning-commission-meeting-2/
LOCATION:West Reading Borough Hall\, 500 Chestnut Street\, West Reading\, PA\, 19611\, United States
CATEGORIES:Planning Commission Meeting,Public Meeting
ATTACH;FMTTYPE=image/jpeg:https://www.westreadingborough.com/wp-content/uploads/2025/07/event-Borough-Hall.jpg
END:VEVENT
BEGIN:VEVENT
DTSTART;TZID=America/New_York:20251202T180000
DTEND;TZID=America/New_York:20251202T180000
DTSTAMP:20260422T163740
CREATED:20251028T125608Z
LAST-MODIFIED:20251028T144027Z
UID:10000032-1764698400-1764698400@www.westreadingborough.com
SUMMARY:Recreation Commission Meeting
DESCRIPTION:
URL:https://www.westreadingborough.com/event/recreation-commission-meeting/
LOCATION:West Reading Borough Hall\, 500 Chestnut Street\, West Reading\, PA\, 19611\, United States
CATEGORIES:Public Meeting
ATTACH;FMTTYPE=image/jpeg:https://www.westreadingborough.com/wp-content/uploads/2025/07/Recreation-Commission-01.jpg
END:VEVENT
BEGIN:VEVENT
DTSTART;TZID=America/New_York:20251201T180000
DTEND;TZID=America/New_York:20251201T180000
DTSTAMP:20260422T163740
CREATED:20251028T125057Z
LAST-MODIFIED:20251121T135752Z
UID:10000031-1764612000-1764612000@www.westreadingborough.com
SUMMARY:Cancelled - Shade Tree Commission Meeting
DESCRIPTION:
URL:https://www.westreadingborough.com/event/shade-tree-commission-meeting-3/
LOCATION:West Reading Borough Hall\, 500 Chestnut Street\, West Reading\, PA\, 19611\, United States
CATEGORIES:Public Meeting,Shade Tree Commission
ATTACH;FMTTYPE=image/jpeg:https://www.westreadingborough.com/wp-content/uploads/2025/10/Shade-Planning-01.jpg
END:VEVENT
BEGIN:VEVENT
DTSTART;VALUE=DATE:20251128
DTEND;VALUE=DATE:20251129
DTSTAMP:20260422T163740
CREATED:20251028T135403Z
LAST-MODIFIED:20251028T135403Z
UID:10000034-1764288000-1764374399@www.westreadingborough.com
SUMMARY:Friday after Thanksgiving Holiday
DESCRIPTION:Borough Hall will be closed in observance of Black Friday. However\, if you require Police assistance or if you have a sewer back-up\, please call our after-hours non-emergency number 610-373-0111. The dispatcher will have Borough personnel contact you.
URL:https://www.westreadingborough.com/event/friday-after-thanksgiving-holiday/
LOCATION:PA
CATEGORIES:Holiday
ATTACH;FMTTYPE=image/jpeg:https://www.westreadingborough.com/wp-content/uploads/2025/10/Friday-After-Thanksgiving-01.jpg
END:VEVENT
BEGIN:VEVENT
DTSTART;VALUE=DATE:20251127
DTEND;VALUE=DATE:20251128
DTSTAMP:20260422T163740
CREATED:20251028T135240Z
LAST-MODIFIED:20251118T212440Z
UID:10000033-1764201600-1764287999@www.westreadingborough.com
SUMMARY:Thanksgiving Day
DESCRIPTION:Borough Hall will be closed in observance of Thanksgiving Day. However\, if you require Police assistance or if you have a sewer back-up\, please call our after-hours non-emergency number 610-373-0111. The dispatcher will have Borough personnel contact you.
URL:https://www.westreadingborough.com/event/thanksgiving-day/
LOCATION:PA
CATEGORIES:Holiday
ATTACH;FMTTYPE=image/jpeg:https://www.westreadingborough.com/wp-content/uploads/2025/10/Thanksgiving-01.jpg
END:VEVENT
BEGIN:VEVENT
DTSTART;TZID=America/New_York:20251125T180000
DTEND;TZID=America/New_York:20251125T180000
DTSTAMP:20260422T163740
CREATED:20251028T121537Z
LAST-MODIFIED:20251121T140222Z
UID:10000021-1764093600-1764093600@www.westreadingborough.com
SUMMARY:Cancelled - Borough Council Meeting
DESCRIPTION:
URL:https://www.westreadingborough.com/event/borough-council-meeting-4/
LOCATION:West Reading Borough Hall\, 500 Chestnut Street\, West Reading\, PA\, 19611\, United States
CATEGORIES:Borough Council Meeting,Public Meeting
ATTACH;FMTTYPE=image/jpeg:https://www.westreadingborough.com/wp-content/uploads/2025/10/Borough-Council-Meeting-01.jpg
END:VEVENT
BEGIN:VEVENT
DTSTART;TZID=America/New_York:20251125T170000
DTEND;TZID=America/New_York:20251125T193000
DTSTAMP:20260422T163740
CREATED:20251029T151408Z
LAST-MODIFIED:20251112T211403Z
UID:10000046-1764090000-1764099000@www.westreadingborough.com
SUMMARY:Dungeons & Dragons Night at Bicentennial House
DESCRIPTION:
URL:https://www.westreadingborough.com/event/dungeons-dragons-night-at-bicentennial-house/
LOCATION:Bicentennial House\, 201 Playground Drive\, West Reading\, PA\, 19611\, United States
CATEGORIES:Recreation
ATTACH;FMTTYPE=image/jpeg:https://www.westreadingborough.com/wp-content/uploads/2025/10/Dungeons-Dragons-Night-at-Bicentennial-House-01.jpg
END:VEVENT
END:VCALENDAR