BEGIN:VCALENDAR
VERSION:2.0
PRODID:-//The Borough of West Reading, PA - ECPv6.15.20//NONSGML v1.0//EN
CALSCALE:GREGORIAN
METHOD:PUBLISH
X-WR-CALNAME:The Borough of West Reading, PA
X-ORIGINAL-URL:https://www.westreadingborough.com
X-WR-CALDESC:Events for The Borough of West Reading, PA
REFRESH-INTERVAL;VALUE=DURATION:PT1H
X-Robots-Tag:noindex
X-PUBLISHED-TTL:PT1H
BEGIN:VTIMEZONE
TZID:America/New_York
BEGIN:DAYLIGHT
TZOFFSETFROM:-0500
TZOFFSETTO:-0400
TZNAME:EDT
DTSTART:20250309T070000
END:DAYLIGHT
BEGIN:STANDARD
TZOFFSETFROM:-0400
TZOFFSETTO:-0500
TZNAME:EST
DTSTART:20251102T060000
END:STANDARD
BEGIN:DAYLIGHT
TZOFFSETFROM:-0500
TZOFFSETTO:-0400
TZNAME:EDT
DTSTART:20260308T070000
END:DAYLIGHT
BEGIN:STANDARD
TZOFFSETFROM:-0400
TZOFFSETTO:-0500
TZNAME:EST
DTSTART:20261101T060000
END:STANDARD
BEGIN:DAYLIGHT
TZOFFSETFROM:-0500
TZOFFSETTO:-0400
TZNAME:EDT
DTSTART:20270314T070000
END:DAYLIGHT
BEGIN:STANDARD
TZOFFSETFROM:-0400
TZOFFSETTO:-0500
TZNAME:EST
DTSTART:20271107T060000
END:STANDARD
BEGIN:DAYLIGHT
TZOFFSETFROM:-0500
TZOFFSETTO:-0400
TZNAME:EDT
DTSTART:20280312T070000
END:DAYLIGHT
BEGIN:STANDARD
TZOFFSETFROM:-0400
TZOFFSETTO:-0500
TZNAME:EST
DTSTART:20281105T060000
END:STANDARD
END:VTIMEZONE
BEGIN:VEVENT
DTSTART;TZID=America/New_York:20261102T180000
DTEND;TZID=America/New_York:20261102T180000
DTSTAMP:20260423T014354
CREATED:20251223T212111Z
LAST-MODIFIED:20251223T212157Z
UID:10000260-1793642400-1793642400@www.westreadingborough.com
SUMMARY:Recreation Commission Meeting
DESCRIPTION:
URL:https://www.westreadingborough.com/event/recreation-commission-meeting-3/2026-11-02/
LOCATION:Bicentennial House\, 201 Playground Drive\, West Reading\, PA\, 19611\, United States
CATEGORIES:Recreation
ATTACH;FMTTYPE=image/jpeg:https://www.westreadingborough.com/wp-content/uploads/2025/07/event-Bicentennial-House.jpg
END:VEVENT
BEGIN:VEVENT
DTSTART;TZID=America/New_York:20261102T180000
DTEND;TZID=America/New_York:20261102T180000
DTSTAMP:20260423T014354
CREATED:20251223T213537Z
LAST-MODIFIED:20251223T213537Z
UID:10000281-1793642400-1793642400@www.westreadingborough.com
SUMMARY:Shade Tree Commission Meeting
DESCRIPTION:
URL:https://www.westreadingborough.com/event/shade-tree-commission-meeting-4/2026-11-02/
LOCATION:West Reading Borough Hall\, 500 Chestnut Street\, West Reading\, PA\, 19611\, United States
CATEGORIES:Shade Tree Commission
ATTACH;FMTTYPE=image/jpeg:https://www.westreadingborough.com/wp-content/uploads/2025/10/Case-Study-West-Reading-PA.jpg
END:VEVENT
BEGIN:VEVENT
DTSTART;TZID=America/New_York:20261103T070000
DTEND;TZID=America/New_York:20261103T200000
DTSTAMP:20260423T014354
CREATED:20251226T144445Z
LAST-MODIFIED:20251226T144445Z
UID:10000304-1793689200-1793736000@www.westreadingborough.com
SUMMARY:Election Day
DESCRIPTION:General elections\nGeneral elections are always held on the first Tuesday after the first Monday in November. In a general election\, Pennsylvanians vote for federal\, state\, and local officials\, including: \n\nU.S. president\,\nU.S. senators and U.S. representatives to Congress\,\nPennsylvania governor and lieutenant governor\,\nPennsylvania General Assembly members (state Senators and state Representatives)\,\nAttorney general\, auditor general\, and state treasurer\,\nCounty and local officials (in odd-numbered years)\, and\nJudges and magisterial district judges (in odd-numbered years).\n\nIn odd-numbered years\, the November general election is also called a municipal election because there are no federal or state office races on the ballot. \nEvery four years\, the general election is also called a presidential election because the office of the U.S. president is on the ballot.
URL:https://www.westreadingborough.com/event/election-day-2/
CATEGORIES:Event
ATTACH;FMTTYPE=image/jpeg:https://www.westreadingborough.com/wp-content/uploads/2025/12/Election-Day_.jpg
END:VEVENT
BEGIN:VEVENT
DTSTART;TZID=America/New_York:20261104T180000
DTEND;TZID=America/New_York:20261104T180000
DTSTAMP:20260423T014354
CREATED:20251223T211133Z
LAST-MODIFIED:20251223T212257Z
UID:10000199-1793815200-1793815200@www.westreadingborough.com
SUMMARY:Planning Commission Meeting
DESCRIPTION:
URL:https://www.westreadingborough.com/event/planning-commission-meeting-3/2026-11-04/
LOCATION:West Reading Borough Hall\, 500 Chestnut Street\, West Reading\, PA\, 19611\, United States
CATEGORIES:Planning Commission Meeting
ATTACH;FMTTYPE=image/jpeg:https://www.westreadingborough.com/wp-content/uploads/2025/10/Borough-Council-Meeting-01.jpg
END:VEVENT
BEGIN:VEVENT
DTSTART;TZID=America/New_York:20261107T090000
DTEND;TZID=America/New_York:20261107T090000
DTSTAMP:20260423T014354
CREATED:20251223T210821Z
LAST-MODIFIED:20251223T210918Z
UID:10000188-1794042000-1794042000@www.westreadingborough.com
SUMMARY:Borough Council Budget Workshop
DESCRIPTION:
URL:https://www.westreadingborough.com/event/borough-council-budget-workshop/
LOCATION:West Reading Borough Hall\, 500 Chestnut Street\, West Reading\, PA\, 19611\, United States
CATEGORIES:Borough Council Meeting
ATTACH;FMTTYPE=image/jpeg:https://www.westreadingborough.com/wp-content/uploads/2025/10/Case-Study-West-Reading-PA.jpg
END:VEVENT
BEGIN:VEVENT
DTSTART;TZID=America/New_York:20261108T100000
DTEND;TZID=America/New_York:20261108T130000
DTSTAMP:20260423T014354
CREATED:20260206T194442Z
LAST-MODIFIED:20260206T195648Z
UID:10000366-1794132000-1794142800@www.westreadingborough.com
SUMMARY:West Reading Farmers' Market
DESCRIPTION:The weekly Sunday Summer Farmers’ Market will take place on the 500 block of Penn Avenue and South Sixth Avenue\, West Reading\, from 10 AM to 1 PM\, rain or shine. \nThe WRFM is entering its 20th season as a producer-only outdoor farmers’ market. Every vendor is a hand-picked small-scale farmer (produce\, livestock\, or dairy) or food business located within 50 miles of West Reading. Each item is grown\, raised\, or hand-made. Our passion is educating our customers on the benefits and positive impact of committing to supporting locally grown and produced foods. We offer a variety of seasonal vegetables and fruits\, artisan pastries\, cookies\, and organic breads\, pastured meats\, poultry\, and eggs\, cheeses\, raw local honey\, hand-made ravioli and pasta\, olive oil\, locally roasted coffee and blended teas\, fresh cut flowers\, herbal tinctures and body products\, locally fermented cider and beer. All value-added producers are highly encouraged to source local ingredients whenever possible. \nEvery market features live music\, free samples\, and our primary goal of serving as a gathering place for those who love local foods\, while supporting our vendors in getting their goods to the community. We also celebrate local artisan crafters every Second Sunday of the month. Please take part in supporting our producers each Sunday as they show up rain or shine to nourish your family. If knowing where your food comes from is important to you\, THIS is the farmers’ market for you! The market is now accepting SNAP\, and our vegetable and mushroom growers accept Farmers’ Market Nutrition Program (FMNP) checks. See the market info table on our website for more information. See you on the Ave! WestReadingFarmersMarket.com
URL:https://www.westreadingborough.com/event/west-reading-farmers-market-3/2026-11-08/
LOCATION:West Reading Park & Pavilion\, 505 Sycamore Road\, West Reading\, PA\, 19611\, United States
CATEGORIES:Event
ATTACH;FMTTYPE=image/jpeg:https://www.westreadingborough.com/wp-content/uploads/2025/12/wrb-farmers-market.jpg
END:VEVENT
BEGIN:VEVENT
DTSTART;TZID=America/New_York:20261109T180000
DTEND;TZID=America/New_York:20261109T180000
DTSTAMP:20260423T014354
CREATED:20260106T203032Z
LAST-MODIFIED:20260106T210041Z
UID:10000318-1794247200-1794247200@www.westreadingborough.com
SUMMARY:Economic Development Committee Meeting
DESCRIPTION:
URL:https://www.westreadingborough.com/event/economic-development-committee/2026-11-09/
LOCATION:West Reading Borough Hall\, 500 Chestnut Street\, West Reading\, PA\, 19611\, United States
CATEGORIES:Economic Development Committee Meeting,Event
ATTACH;FMTTYPE=image/jpeg:https://www.westreadingborough.com/wp-content/uploads/2025/10/Case-Study-West-Reading-PA.jpg
END:VEVENT
BEGIN:VEVENT
DTSTART;TZID=America/New_York:20261110T180000
DTEND;TZID=America/New_York:20261110T180000
DTSTAMP:20260423T014354
CREATED:20251223T213219Z
LAST-MODIFIED:20251223T213219Z
UID:10000272-1794333600-1794333600@www.westreadingborough.com
SUMMARY:Traffic & Infrastructure Committee Meeting
DESCRIPTION:
URL:https://www.westreadingborough.com/event/traffic-infrastructure-committee-meeting-4/
LOCATION:West Reading Borough Hall\, 500 Chestnut Street\, West Reading\, PA\, 19611\, United States
CATEGORIES:Traffic & Infrastructure Committee Meeting
ATTACH;FMTTYPE=image/jpeg:https://www.westreadingborough.com/wp-content/uploads/2025/10/Case-Study-West-Reading-PA.jpg
END:VEVENT
BEGIN:VEVENT
DTSTART;VALUE=DATE:20261111
DTEND;VALUE=DATE:20261112
DTSTAMP:20260423T014354
CREATED:20251226T144934Z
LAST-MODIFIED:20251226T144934Z
UID:10000305-1794355200-1794441599@www.westreadingborough.com
SUMMARY:Veterans Day
DESCRIPTION:Borough Hall will be closed in observance of Veterans Day. However\, if you require Police assistance or have a sewer backup\, please call our after-hours non-emergency number at 610-373-0111. The dispatcher will have Borough personnel contact you.
URL:https://www.westreadingborough.com/event/veterans-day-2/
CATEGORIES:Holiday
ATTACH;FMTTYPE=image/jpeg:https://www.westreadingborough.com/wp-content/uploads/2025/12/veterans-day.jpg
END:VEVENT
BEGIN:VEVENT
DTSTART;TZID=America/New_York:20261112T180000
DTEND;TZID=America/New_York:20261112T180000
DTSTAMP:20260423T014354
CREATED:20260108T195647Z
LAST-MODIFIED:20260108T195756Z
UID:10000331-1794506400-1794506400@www.westreadingborough.com
SUMMARY:Finance Committee Meeting
DESCRIPTION:
URL:https://www.westreadingborough.com/event/finance-committee-meeting-5/2026-11-12/
LOCATION:West Reading Borough Hall\, 500 Chestnut Street\, West Reading\, PA\, 19611\, United States
CATEGORIES:Finance Committee,Finance Committee Meeting
ATTACH;FMTTYPE=image/jpeg:https://www.westreadingborough.com/wp-content/uploads/2025/10/Case-Study-West-Reading-PA.jpg
END:VEVENT
BEGIN:VEVENT
DTSTART;TZID=America/New_York:20261115T100000
DTEND;TZID=America/New_York:20261115T130000
DTSTAMP:20260423T014354
CREATED:20260206T194442Z
LAST-MODIFIED:20260206T195648Z
UID:10000367-1794736800-1794747600@www.westreadingborough.com
SUMMARY:West Reading Farmers' Market
DESCRIPTION:The weekly Sunday Summer Farmers’ Market will take place on the 500 block of Penn Avenue and South Sixth Avenue\, West Reading\, from 10 AM to 1 PM\, rain or shine. \nThe WRFM is entering its 20th season as a producer-only outdoor farmers’ market. Every vendor is a hand-picked small-scale farmer (produce\, livestock\, or dairy) or food business located within 50 miles of West Reading. Each item is grown\, raised\, or hand-made. Our passion is educating our customers on the benefits and positive impact of committing to supporting locally grown and produced foods. We offer a variety of seasonal vegetables and fruits\, artisan pastries\, cookies\, and organic breads\, pastured meats\, poultry\, and eggs\, cheeses\, raw local honey\, hand-made ravioli and pasta\, olive oil\, locally roasted coffee and blended teas\, fresh cut flowers\, herbal tinctures and body products\, locally fermented cider and beer. All value-added producers are highly encouraged to source local ingredients whenever possible. \nEvery market features live music\, free samples\, and our primary goal of serving as a gathering place for those who love local foods\, while supporting our vendors in getting their goods to the community. We also celebrate local artisan crafters every Second Sunday of the month. Please take part in supporting our producers each Sunday as they show up rain or shine to nourish your family. If knowing where your food comes from is important to you\, THIS is the farmers’ market for you! The market is now accepting SNAP\, and our vegetable and mushroom growers accept Farmers’ Market Nutrition Program (FMNP) checks. See the market info table on our website for more information. See you on the Ave! WestReadingFarmersMarket.com
URL:https://www.westreadingborough.com/event/west-reading-farmers-market-3/2026-11-15/
LOCATION:West Reading Park & Pavilion\, 505 Sycamore Road\, West Reading\, PA\, 19611\, United States
CATEGORIES:Event
ATTACH;FMTTYPE=image/jpeg:https://www.westreadingborough.com/wp-content/uploads/2025/12/wrb-farmers-market.jpg
END:VEVENT
BEGIN:VEVENT
DTSTART;TZID=America/New_York:20261117T190000
DTEND;TZID=America/New_York:20261117T190000
DTSTAMP:20260423T014354
CREATED:20251218T212828Z
LAST-MODIFIED:20251223T212551Z
UID:10000076-1794942000-1794942000@www.westreadingborough.com
SUMMARY:Borough Council Meeting
DESCRIPTION:
URL:https://www.westreadingborough.com/event/borough-council-meeting-8/2026-11-17/
LOCATION:West Reading Borough Hall\, 500 Chestnut Street\, West Reading\, PA\, 19611\, United States
CATEGORIES:Borough Council Meeting
ATTACH;FMTTYPE=image/jpeg:https://www.westreadingborough.com/wp-content/uploads/2025/10/Borough-Council-Meeting-01.jpg
END:VEVENT
BEGIN:VEVENT
DTSTART;TZID=America/New_York:20261122T100000
DTEND;TZID=America/New_York:20261122T130000
DTSTAMP:20260423T014354
CREATED:20260206T194442Z
LAST-MODIFIED:20260206T195648Z
UID:10000368-1795341600-1795352400@www.westreadingborough.com
SUMMARY:West Reading Farmers' Market
DESCRIPTION:The weekly Sunday Summer Farmers’ Market will take place on the 500 block of Penn Avenue and South Sixth Avenue\, West Reading\, from 10 AM to 1 PM\, rain or shine. \nThe WRFM is entering its 20th season as a producer-only outdoor farmers’ market. Every vendor is a hand-picked small-scale farmer (produce\, livestock\, or dairy) or food business located within 50 miles of West Reading. Each item is grown\, raised\, or hand-made. Our passion is educating our customers on the benefits and positive impact of committing to supporting locally grown and produced foods. We offer a variety of seasonal vegetables and fruits\, artisan pastries\, cookies\, and organic breads\, pastured meats\, poultry\, and eggs\, cheeses\, raw local honey\, hand-made ravioli and pasta\, olive oil\, locally roasted coffee and blended teas\, fresh cut flowers\, herbal tinctures and body products\, locally fermented cider and beer. All value-added producers are highly encouraged to source local ingredients whenever possible. \nEvery market features live music\, free samples\, and our primary goal of serving as a gathering place for those who love local foods\, while supporting our vendors in getting their goods to the community. We also celebrate local artisan crafters every Second Sunday of the month. Please take part in supporting our producers each Sunday as they show up rain or shine to nourish your family. If knowing where your food comes from is important to you\, THIS is the farmers’ market for you! The market is now accepting SNAP\, and our vegetable and mushroom growers accept Farmers’ Market Nutrition Program (FMNP) checks. See the market info table on our website for more information. See you on the Ave! WestReadingFarmersMarket.com
URL:https://www.westreadingborough.com/event/west-reading-farmers-market-3/2026-11-22/
LOCATION:West Reading Park & Pavilion\, 505 Sycamore Road\, West Reading\, PA\, 19611\, United States
CATEGORIES:Event
ATTACH;FMTTYPE=image/jpeg:https://www.westreadingborough.com/wp-content/uploads/2025/12/wrb-farmers-market.jpg
END:VEVENT
BEGIN:VEVENT
DTSTART;TZID=America/New_York:20261123T180000
DTEND;TZID=America/New_York:20261123T180000
DTSTAMP:20260423T014354
CREATED:20251223T214746Z
LAST-MODIFIED:20251223T214746Z
UID:10000293-1795456800-1795456800@www.westreadingborough.com
SUMMARY:Environmental Advisory Council Meeting
DESCRIPTION:
URL:https://www.westreadingborough.com/event/environmental-advisory-council-meeting-4/2026-11-23/
LOCATION:West Reading Borough Hall\, 500 Chestnut Street\, West Reading\, PA\, 19611\, United States
CATEGORIES:Environmental Advisory Council Meeting
ATTACH;FMTTYPE=image/jpeg:https://www.westreadingborough.com/wp-content/uploads/2025/10/Case-Study-West-Reading-PA.jpg
END:VEVENT
BEGIN:VEVENT
DTSTART;TZID=America/New_York:20261124T180000
DTEND;TZID=America/New_York:20261124T180000
DTSTAMP:20260423T014354
CREATED:20251218T213905Z
LAST-MODIFIED:20251223T212659Z
UID:10000136-1795543200-1795543200@www.westreadingborough.com
SUMMARY:Borough Council Meeting
DESCRIPTION:
URL:https://www.westreadingborough.com/event/borough-council-meeting-9/2026-11-24/
LOCATION:West Reading Borough Hall\, 500 Chestnut Street\, West Reading\, PA\, 19611\, United States
CATEGORIES:Borough Council Meeting
ATTACH;FMTTYPE=image/jpeg:https://www.westreadingborough.com/wp-content/uploads/2025/10/Case-Study-West-Reading-PA.jpg
END:VEVENT
BEGIN:VEVENT
DTSTART;VALUE=DATE:20261126
DTEND;VALUE=DATE:20261128
DTSTAMP:20260423T014354
CREATED:20251226T145248Z
LAST-MODIFIED:20251226T151731Z
UID:10000306-1795651200-1795823999@www.westreadingborough.com
SUMMARY:Thanksgiving Holiday
DESCRIPTION:Borough Hall will be closed in observance of Thanksgiving on November 26 & 27. However\, if you require Police assistance or have a sewer backup\, please call our after-hours non-emergency number at 610-373-0111. The dispatcher will have Borough personnel contact you.
URL:https://www.westreadingborough.com/event/thanksgiving-day-2/
CATEGORIES:Holiday
ATTACH;FMTTYPE=image/jpeg:https://www.westreadingborough.com/wp-content/uploads/2025/12/Thanksgiving-Image2.jpg
END:VEVENT
BEGIN:VEVENT
DTSTART;TZID=America/New_York:20261129T100000
DTEND;TZID=America/New_York:20261129T130000
DTSTAMP:20260423T014354
CREATED:20260206T194442Z
LAST-MODIFIED:20260206T195648Z
UID:10000422-1795946400-1795957200@www.westreadingborough.com
SUMMARY:West Reading Farmers' Market
DESCRIPTION:The weekly Sunday Summer Farmers’ Market will take place on the 500 block of Penn Avenue and South Sixth Avenue\, West Reading\, from 10 AM to 1 PM\, rain or shine. \nThe WRFM is entering its 20th season as a producer-only outdoor farmers’ market. Every vendor is a hand-picked small-scale farmer (produce\, livestock\, or dairy) or food business located within 50 miles of West Reading. Each item is grown\, raised\, or hand-made. Our passion is educating our customers on the benefits and positive impact of committing to supporting locally grown and produced foods. We offer a variety of seasonal vegetables and fruits\, artisan pastries\, cookies\, and organic breads\, pastured meats\, poultry\, and eggs\, cheeses\, raw local honey\, hand-made ravioli and pasta\, olive oil\, locally roasted coffee and blended teas\, fresh cut flowers\, herbal tinctures and body products\, locally fermented cider and beer. All value-added producers are highly encouraged to source local ingredients whenever possible. \nEvery market features live music\, free samples\, and our primary goal of serving as a gathering place for those who love local foods\, while supporting our vendors in getting their goods to the community. We also celebrate local artisan crafters every Second Sunday of the month. Please take part in supporting our producers each Sunday as they show up rain or shine to nourish your family. If knowing where your food comes from is important to you\, THIS is the farmers’ market for you! The market is now accepting SNAP\, and our vegetable and mushroom growers accept Farmers’ Market Nutrition Program (FMNP) checks. See the market info table on our website for more information. See you on the Ave! WestReadingFarmersMarket.com
URL:https://www.westreadingborough.com/event/west-reading-farmers-market-3/2026-11-29/
LOCATION:West Reading Park & Pavilion\, 505 Sycamore Road\, West Reading\, PA\, 19611\, United States
CATEGORIES:Event
ATTACH;FMTTYPE=image/jpeg:https://www.westreadingborough.com/wp-content/uploads/2025/12/wrb-farmers-market.jpg
END:VEVENT
BEGIN:VEVENT
DTSTART;TZID=America/New_York:20261201T180000
DTEND;TZID=America/New_York:20261201T180000
DTSTAMP:20260423T014354
CREATED:20251223T211714Z
LAST-MODIFIED:20251223T211831Z
UID:10000258-1796148000-1796148000@www.westreadingborough.com
SUMMARY:Recreation Commission Meeting
DESCRIPTION:
URL:https://www.westreadingborough.com/event/recreation-commission-meeting-2/2026-12-01/
LOCATION:West Reading Borough Hall\, 500 Chestnut Street\, West Reading\, PA\, 19611\, United States
CATEGORIES:Recreation
ATTACH;FMTTYPE=image/jpeg:https://www.westreadingborough.com/wp-content/uploads/2025/10/Case-Study-West-Reading-PA.jpg
END:VEVENT
BEGIN:VEVENT
DTSTART;TZID=America/New_York:20261202T180000
DTEND;TZID=America/New_York:20261202T180000
DTSTAMP:20260423T014354
CREATED:20251223T211133Z
LAST-MODIFIED:20251223T212257Z
UID:10000200-1796234400-1796234400@www.westreadingborough.com
SUMMARY:Planning Commission Meeting
DESCRIPTION:
URL:https://www.westreadingborough.com/event/planning-commission-meeting-3/2026-12-02/
LOCATION:West Reading Borough Hall\, 500 Chestnut Street\, West Reading\, PA\, 19611\, United States
CATEGORIES:Planning Commission Meeting
ATTACH;FMTTYPE=image/jpeg:https://www.westreadingborough.com/wp-content/uploads/2025/10/Borough-Council-Meeting-01.jpg
END:VEVENT
BEGIN:VEVENT
DTSTART;TZID=America/New_York:20261207T180000
DTEND;TZID=America/New_York:20261207T180000
DTSTAMP:20260423T014354
CREATED:20251223T213537Z
LAST-MODIFIED:20251223T213537Z
UID:10000282-1796666400-1796666400@www.westreadingborough.com
SUMMARY:Shade Tree Commission Meeting
DESCRIPTION:
URL:https://www.westreadingborough.com/event/shade-tree-commission-meeting-4/2026-12-07/
LOCATION:West Reading Borough Hall\, 500 Chestnut Street\, West Reading\, PA\, 19611\, United States
CATEGORIES:Shade Tree Commission
ATTACH;FMTTYPE=image/jpeg:https://www.westreadingborough.com/wp-content/uploads/2025/10/Case-Study-West-Reading-PA.jpg
END:VEVENT
BEGIN:VEVENT
DTSTART;TZID=America/New_York:20261209T180000
DTEND;TZID=America/New_York:20261209T180000
DTSTAMP:20260423T014354
CREATED:20251223T213024Z
LAST-MODIFIED:20251223T213024Z
UID:10000271-1796839200-1796839200@www.westreadingborough.com
SUMMARY:Traffic & Infrastructure Committee Meeting
DESCRIPTION:
URL:https://www.westreadingborough.com/event/traffic-infrastructure-committee-meeting-3/2026-12-09/
LOCATION:West Reading Borough Hall\, 500 Chestnut Street\, West Reading\, PA\, 19611\, United States
CATEGORIES:Traffic & Infrastructure Committee Meeting
ATTACH;FMTTYPE=image/jpeg:https://www.westreadingborough.com/wp-content/uploads/2025/10/Case-Study-West-Reading-PA.jpg
END:VEVENT
BEGIN:VEVENT
DTSTART;TZID=America/New_York:20261210T180000
DTEND;TZID=America/New_York:20261210T180000
DTSTAMP:20260423T014354
CREATED:20260108T195647Z
LAST-MODIFIED:20260108T195756Z
UID:10000332-1796925600-1796925600@www.westreadingborough.com
SUMMARY:Finance Committee Meeting
DESCRIPTION:
URL:https://www.westreadingborough.com/event/finance-committee-meeting-5/2026-12-10/
LOCATION:West Reading Borough Hall\, 500 Chestnut Street\, West Reading\, PA\, 19611\, United States
CATEGORIES:Finance Committee,Finance Committee Meeting
ATTACH;FMTTYPE=image/jpeg:https://www.westreadingborough.com/wp-content/uploads/2025/10/Case-Study-West-Reading-PA.jpg
END:VEVENT
BEGIN:VEVENT
DTSTART;TZID=America/New_York:20261214T180000
DTEND;TZID=America/New_York:20261214T180000
DTSTAMP:20260423T014354
CREATED:20260106T203032Z
LAST-MODIFIED:20260106T210041Z
UID:10000319-1797271200-1797271200@www.westreadingborough.com
SUMMARY:Economic Development Committee Meeting
DESCRIPTION:
URL:https://www.westreadingborough.com/event/economic-development-committee/2026-12-14/
LOCATION:West Reading Borough Hall\, 500 Chestnut Street\, West Reading\, PA\, 19611\, United States
CATEGORIES:Economic Development Committee Meeting,Event
ATTACH;FMTTYPE=image/jpeg:https://www.westreadingborough.com/wp-content/uploads/2025/10/Case-Study-West-Reading-PA.jpg
END:VEVENT
BEGIN:VEVENT
DTSTART;TZID=America/New_York:20261215T190000
DTEND;TZID=America/New_York:20261215T190000
DTSTAMP:20260423T014354
CREATED:20251218T212828Z
LAST-MODIFIED:20251223T212551Z
UID:10000077-1797361200-1797361200@www.westreadingborough.com
SUMMARY:Borough Council Meeting
DESCRIPTION:
URL:https://www.westreadingborough.com/event/borough-council-meeting-8/2026-12-15/
LOCATION:West Reading Borough Hall\, 500 Chestnut Street\, West Reading\, PA\, 19611\, United States
CATEGORIES:Borough Council Meeting
ATTACH;FMTTYPE=image/jpeg:https://www.westreadingborough.com/wp-content/uploads/2025/10/Borough-Council-Meeting-01.jpg
END:VEVENT
BEGIN:VEVENT
DTSTART;TZID=America/New_York:20261222T180000
DTEND;TZID=America/New_York:20261222T180000
DTSTAMP:20260423T014354
CREATED:20251218T213905Z
LAST-MODIFIED:20251223T212659Z
UID:10000137-1797962400-1797962400@www.westreadingborough.com
SUMMARY:Borough Council Meeting
DESCRIPTION:
URL:https://www.westreadingborough.com/event/borough-council-meeting-9/2026-12-22/
LOCATION:West Reading Borough Hall\, 500 Chestnut Street\, West Reading\, PA\, 19611\, United States
CATEGORIES:Borough Council Meeting
ATTACH;FMTTYPE=image/jpeg:https://www.westreadingborough.com/wp-content/uploads/2025/10/Case-Study-West-Reading-PA.jpg
END:VEVENT
BEGIN:VEVENT
DTSTART;VALUE=DATE:20261224
DTEND;VALUE=DATE:20261226
DTSTAMP:20260423T014354
CREATED:20251226T150401Z
LAST-MODIFIED:20251226T151613Z
UID:10000307-1798070400-1798243199@www.westreadingborough.com
SUMMARY:Christmas Holiday
DESCRIPTION:Borough Hall will be closed in observance of the Christmas Holiday on December 24 & 25. However\, if you require Police assistance or have a sewer backup\, please call our after-hours non-emergency number at 610-373-0111. The dispatcher will have Borough personnel contact you.
URL:https://www.westreadingborough.com/event/christmas/
CATEGORIES:Holiday
ATTACH;FMTTYPE=image/jpeg:https://www.westreadingborough.com/wp-content/uploads/2025/12/Christmas.jpg
END:VEVENT
BEGIN:VEVENT
DTSTART;TZID=America/New_York:20261228T180000
DTEND;TZID=America/New_York:20261228T180000
DTSTAMP:20260423T014354
CREATED:20251223T214746Z
LAST-MODIFIED:20251223T214746Z
UID:10000294-1798480800-1798480800@www.westreadingborough.com
SUMMARY:Environmental Advisory Council Meeting
DESCRIPTION:
URL:https://www.westreadingborough.com/event/environmental-advisory-council-meeting-4/2026-12-28/
LOCATION:West Reading Borough Hall\, 500 Chestnut Street\, West Reading\, PA\, 19611\, United States
CATEGORIES:Environmental Advisory Council Meeting
ATTACH;FMTTYPE=image/jpeg:https://www.westreadingborough.com/wp-content/uploads/2025/10/Case-Study-West-Reading-PA.jpg
END:VEVENT
BEGIN:VEVENT
DTSTART;VALUE=DATE:20261231
DTEND;VALUE=DATE:20270102
DTSTAMP:20260423T014354
CREATED:20251226T151018Z
LAST-MODIFIED:20251226T151449Z
UID:10000308-1798675200-1798847999@www.westreadingborough.com
SUMMARY:New Year Holiday
DESCRIPTION:Borough Hall will be closed in observance of the New Year Holiday on December 31 & January 1. However\, if you require Police assistance or have a sewer backup\, please call our after-hours non-emergency number at 610-373-0111. The dispatcher will have Borough personnel contact you.\n\n\n\n 
URL:https://www.westreadingborough.com/event/new-year-holiday/
CATEGORIES:Holiday
ATTACH;FMTTYPE=image/jpeg:https://www.westreadingborough.com/wp-content/uploads/2025/12/Happy-New-Year_.jpg
END:VEVENT
BEGIN:VEVENT
DTSTART;TZID=America/New_York:20270114T180000
DTEND;TZID=America/New_York:20270114T180000
DTSTAMP:20260423T014354
CREATED:20260108T195647Z
LAST-MODIFIED:20260108T195756Z
UID:10000333-1799949600-1799949600@www.westreadingborough.com
SUMMARY:Finance Committee Meeting
DESCRIPTION:
URL:https://www.westreadingborough.com/event/finance-committee-meeting-5/2027-01-14/
LOCATION:West Reading Borough Hall\, 500 Chestnut Street\, West Reading\, PA\, 19611\, United States
CATEGORIES:Finance Committee,Finance Committee Meeting
ATTACH;FMTTYPE=image/jpeg:https://www.westreadingborough.com/wp-content/uploads/2025/10/Case-Study-West-Reading-PA.jpg
END:VEVENT
BEGIN:VEVENT
DTSTART;TZID=America/New_York:20270119T190000
DTEND;TZID=America/New_York:20270119T190000
DTSTAMP:20260423T014354
CREATED:20251218T212828Z
LAST-MODIFIED:20251223T212551Z
UID:10000469-1800385200-1800385200@www.westreadingborough.com
SUMMARY:Borough Council Meeting
DESCRIPTION:
URL:https://www.westreadingborough.com/event/borough-council-meeting-8/2027-01-19/
LOCATION:West Reading Borough Hall\, 500 Chestnut Street\, West Reading\, PA\, 19611\, United States
CATEGORIES:Borough Council Meeting
ATTACH;FMTTYPE=image/jpeg:https://www.westreadingborough.com/wp-content/uploads/2025/10/Borough-Council-Meeting-01.jpg
END:VEVENT
END:VCALENDAR