BEGIN:VCALENDAR
VERSION:2.0
PRODID:-//The Borough of West Reading, PA - ECPv6.15.20//NONSGML v1.0//EN
CALSCALE:GREGORIAN
METHOD:PUBLISH
X-ORIGINAL-URL:https://www.westreadingborough.com
X-WR-CALDESC:Events for The Borough of West Reading, PA
REFRESH-INTERVAL;VALUE=DURATION:PT1H
X-Robots-Tag:noindex
X-PUBLISHED-TTL:PT1H
BEGIN:VTIMEZONE
TZID:America/New_York
BEGIN:DAYLIGHT
TZOFFSETFROM:-0500
TZOFFSETTO:-0400
TZNAME:EDT
DTSTART:20250309T070000
END:DAYLIGHT
BEGIN:STANDARD
TZOFFSETFROM:-0400
TZOFFSETTO:-0500
TZNAME:EST
DTSTART:20251102T060000
END:STANDARD
BEGIN:DAYLIGHT
TZOFFSETFROM:-0500
TZOFFSETTO:-0400
TZNAME:EDT
DTSTART:20260308T070000
END:DAYLIGHT
BEGIN:STANDARD
TZOFFSETFROM:-0400
TZOFFSETTO:-0500
TZNAME:EST
DTSTART:20261101T060000
END:STANDARD
BEGIN:DAYLIGHT
TZOFFSETFROM:-0500
TZOFFSETTO:-0400
TZNAME:EDT
DTSTART:20270314T070000
END:DAYLIGHT
BEGIN:STANDARD
TZOFFSETFROM:-0400
TZOFFSETTO:-0500
TZNAME:EST
DTSTART:20271107T060000
END:STANDARD
END:VTIMEZONE
BEGIN:VEVENT
DTSTART;TZID=America/New_York:20260901T180000
DTEND;TZID=America/New_York:20260901T180000
DTSTAMP:20260422T184903
CREATED:20251223T211714Z
LAST-MODIFIED:20251223T211831Z
UID:10000256-1788285600-1788285600@www.westreadingborough.com
SUMMARY:Recreation Commission Meeting
DESCRIPTION:
URL:https://www.westreadingborough.com/event/recreation-commission-meeting-2/2026-09-01/
LOCATION:West Reading Borough Hall\, 500 Chestnut Street\, West Reading\, PA\, 19611\, United States
CATEGORIES:Recreation
ATTACH;FMTTYPE=image/jpeg:https://www.westreadingborough.com/wp-content/uploads/2025/10/Case-Study-West-Reading-PA.jpg
END:VEVENT
BEGIN:VEVENT
DTSTART;TZID=America/New_York:20260919T070000
DTEND;TZID=America/New_York:20260919T120000
DTSTAMP:20260422T184903
CREATED:20260113T135917Z
LAST-MODIFIED:20260113T140046Z
UID:10000335-1789801200-1789819200@www.westreadingborough.com
SUMMARY:Community Yard Sale
DESCRIPTION:Come one\, come all\, come ready to shop at individually hosted yard sales.  \nRain or Shine \nA garage sale permit is not required during community events. However\, signs for the event may only be posted on your property and may not be posted on trees\, telephone poles\, or in the planting strip. 
URL:https://www.westreadingborough.com/event/community-yard-sale/2026-09-19/
LOCATION:PA
CATEGORIES:Event,Recreation
ATTACH;FMTTYPE=image/jpeg:https://www.westreadingborough.com/wp-content/uploads/2025/10/community_yard_sale_event.jpg
END:VEVENT
BEGIN:VEVENT
DTSTART;TZID=America/New_York:20261006T180000
DTEND;TZID=America/New_York:20261006T180000
DTSTAMP:20260422T184903
CREATED:20251223T211714Z
LAST-MODIFIED:20251223T211831Z
UID:10000257-1791309600-1791309600@www.westreadingborough.com
SUMMARY:Recreation Commission Meeting
DESCRIPTION:
URL:https://www.westreadingborough.com/event/recreation-commission-meeting-2/2026-10-06/
LOCATION:West Reading Borough Hall\, 500 Chestnut Street\, West Reading\, PA\, 19611\, United States
CATEGORIES:Recreation
ATTACH;FMTTYPE=image/jpeg:https://www.westreadingborough.com/wp-content/uploads/2025/10/Case-Study-West-Reading-PA.jpg
END:VEVENT
BEGIN:VEVENT
DTSTART;TZID=America/New_York:20261016T190000
DTEND;TZID=America/New_York:20261017T210000
DTSTAMP:20260422T184903
CREATED:20260408T205354Z
LAST-MODIFIED:20260408T205354Z
UID:10000462-1792177200-1792270800@www.westreadingborough.com
SUMMARY:Haunted House & Hayride
DESCRIPTION:Step right up and venture into the spooky realm of the West Reading Pavilion! \nDate & Time: Friday & Saturday\, October 16 & 17\, from 7 PM to 9PM \nRain Date: Friday & Saturday\, October 23 & 24\, from 7 PM to 9 PM \nGames $1 \nHaunted House $9 \nHayride $8 \nSponsored by Discovery Federal Credit Union
URL:https://www.westreadingborough.com/event/haunted-house-hayride/
LOCATION:West Reading Park & Pavilion\, 505 Sycamore Road\, West Reading\, PA\, 19611\, United States
CATEGORIES:Recreation
ATTACH;FMTTYPE=image/png:https://www.westreadingborough.com/wp-content/uploads/2026/04/Recreation-2026-Haunted-House-Flyer-Pg-1-scaled.png
END:VEVENT
BEGIN:VEVENT
DTSTART;TZID=America/New_York:20261102T180000
DTEND;TZID=America/New_York:20261102T180000
DTSTAMP:20260422T184903
CREATED:20251223T212111Z
LAST-MODIFIED:20251223T212157Z
UID:10000260-1793642400-1793642400@www.westreadingborough.com
SUMMARY:Recreation Commission Meeting
DESCRIPTION:
URL:https://www.westreadingborough.com/event/recreation-commission-meeting-3/2026-11-02/
LOCATION:Bicentennial House\, 201 Playground Drive\, West Reading\, PA\, 19611\, United States
CATEGORIES:Recreation
ATTACH;FMTTYPE=image/jpeg:https://www.westreadingborough.com/wp-content/uploads/2025/07/event-Bicentennial-House.jpg
END:VEVENT
BEGIN:VEVENT
DTSTART;TZID=America/New_York:20261201T180000
DTEND;TZID=America/New_York:20261201T180000
DTSTAMP:20260422T184903
CREATED:20251223T211714Z
LAST-MODIFIED:20251223T211831Z
UID:10000258-1796148000-1796148000@www.westreadingborough.com
SUMMARY:Recreation Commission Meeting
DESCRIPTION:
URL:https://www.westreadingborough.com/event/recreation-commission-meeting-2/2026-12-01/
LOCATION:West Reading Borough Hall\, 500 Chestnut Street\, West Reading\, PA\, 19611\, United States
CATEGORIES:Recreation
ATTACH;FMTTYPE=image/jpeg:https://www.westreadingborough.com/wp-content/uploads/2025/10/Case-Study-West-Reading-PA.jpg
END:VEVENT
END:VCALENDAR