BEGIN:VCALENDAR
VERSION:2.0
PRODID:-//The Borough of West Reading, PA - ECPv6.15.20//NONSGML v1.0//EN
CALSCALE:GREGORIAN
METHOD:PUBLISH
X-WR-CALNAME:The Borough of West Reading, PA
X-ORIGINAL-URL:https://www.westreadingborough.com
X-WR-CALDESC:Events for The Borough of West Reading, PA
REFRESH-INTERVAL;VALUE=DURATION:PT1H
X-Robots-Tag:noindex
X-PUBLISHED-TTL:PT1H
BEGIN:VTIMEZONE
TZID:America/New_York
BEGIN:DAYLIGHT
TZOFFSETFROM:-0500
TZOFFSETTO:-0400
TZNAME:EDT
DTSTART:20250309T070000
END:DAYLIGHT
BEGIN:STANDARD
TZOFFSETFROM:-0400
TZOFFSETTO:-0500
TZNAME:EST
DTSTART:20251102T060000
END:STANDARD
BEGIN:DAYLIGHT
TZOFFSETFROM:-0500
TZOFFSETTO:-0400
TZNAME:EDT
DTSTART:20260308T070000
END:DAYLIGHT
BEGIN:STANDARD
TZOFFSETFROM:-0400
TZOFFSETTO:-0500
TZNAME:EST
DTSTART:20261101T060000
END:STANDARD
BEGIN:DAYLIGHT
TZOFFSETFROM:-0500
TZOFFSETTO:-0400
TZNAME:EDT
DTSTART:20270314T070000
END:DAYLIGHT
BEGIN:STANDARD
TZOFFSETFROM:-0400
TZOFFSETTO:-0500
TZNAME:EST
DTSTART:20271107T060000
END:STANDARD
BEGIN:DAYLIGHT
TZOFFSETFROM:-0500
TZOFFSETTO:-0400
TZNAME:EDT
DTSTART:20280312T070000
END:DAYLIGHT
BEGIN:STANDARD
TZOFFSETFROM:-0400
TZOFFSETTO:-0500
TZNAME:EST
DTSTART:20281105T060000
END:STANDARD
END:VTIMEZONE
BEGIN:VEVENT
DTSTART;VALUE=DATE:20260525
DTEND;VALUE=DATE:20260526
DTSTAMP:20260422T042452
CREATED:20251226T143142Z
LAST-MODIFIED:20251226T143142Z
UID:10000300-1779667200-1779753599@www.westreadingborough.com
SUMMARY:Memorial Day
DESCRIPTION:Borough Hall will be closed in observance of Memorial Day. However\, if you require Police assistance or have a sewer backup\, please call our after-hours non-emergency number at 610-373-0111. The dispatcher will have Borough personnel contact you.
URL:https://www.westreadingborough.com/event/memorial-day/
CATEGORIES:Holiday
ATTACH;FMTTYPE=image/jpeg:https://www.westreadingborough.com/wp-content/uploads/2025/12/Memorial-Day-Image.jpg
END:VEVENT
BEGIN:VEVENT
DTSTART;VALUE=DATE:20260703
DTEND;VALUE=DATE:20260704
DTSTAMP:20260422T042452
CREATED:20251226T143415Z
LAST-MODIFIED:20251226T143415Z
UID:10000301-1783036800-1783123199@www.westreadingborough.com
SUMMARY:Independence Day
DESCRIPTION:Borough Hall will be closed in observance of Independence Day. However\, if you require Police assistance or have a sewer backup\, please call our after-hours non-emergency number at 610-373-0111. The dispatcher will have Borough personnel contact you.
URL:https://www.westreadingborough.com/event/independence-day/
CATEGORIES:Holiday
ATTACH;FMTTYPE=image/png:https://www.westreadingborough.com/wp-content/uploads/2025/12/4th-of-July.png
END:VEVENT
BEGIN:VEVENT
DTSTART;VALUE=DATE:20260907
DTEND;VALUE=DATE:20260908
DTSTAMP:20260422T042452
CREATED:20251226T143702Z
LAST-MODIFIED:20251226T143702Z
UID:10000302-1788739200-1788825599@www.westreadingborough.com
SUMMARY:Labor Day
DESCRIPTION:Borough Hall will be closed in observance of Labor Day. However\, if you require Police assistance or have a sewer backup\, please call our after-hours non-emergency number at 610-373-0111. The dispatcher will have Borough personnel contact you.
URL:https://www.westreadingborough.com/event/labor-day/
CATEGORIES:Holiday
ATTACH;FMTTYPE=image/png:https://www.westreadingborough.com/wp-content/uploads/2025/12/Labor-Day-with-Flag.png
END:VEVENT
BEGIN:VEVENT
DTSTART;VALUE=DATE:20261012
DTEND;VALUE=DATE:20261013
DTSTAMP:20260422T042452
CREATED:20251226T143857Z
LAST-MODIFIED:20251226T143857Z
UID:10000303-1791763200-1791849599@www.westreadingborough.com
SUMMARY:Columbus Day
DESCRIPTION:Borough Hall will be closed in observance of Columbus Day. However\, if you require Police assistance or have a sewer backup\, please call our after-hours non-emergency number at 610-373-0111. The dispatcher will have Borough personnel contact you.
URL:https://www.westreadingborough.com/event/columbus-day/
CATEGORIES:Holiday
ATTACH;FMTTYPE=image/jpeg:https://www.westreadingborough.com/wp-content/uploads/2025/12/Columbus-Day.jpg
END:VEVENT
BEGIN:VEVENT
DTSTART;VALUE=DATE:20261111
DTEND;VALUE=DATE:20261112
DTSTAMP:20260422T042452
CREATED:20251226T144934Z
LAST-MODIFIED:20251226T144934Z
UID:10000305-1794355200-1794441599@www.westreadingborough.com
SUMMARY:Veterans Day
DESCRIPTION:Borough Hall will be closed in observance of Veterans Day. However\, if you require Police assistance or have a sewer backup\, please call our after-hours non-emergency number at 610-373-0111. The dispatcher will have Borough personnel contact you.
URL:https://www.westreadingborough.com/event/veterans-day-2/
CATEGORIES:Holiday
ATTACH;FMTTYPE=image/jpeg:https://www.westreadingborough.com/wp-content/uploads/2025/12/veterans-day.jpg
END:VEVENT
BEGIN:VEVENT
DTSTART;VALUE=DATE:20261126
DTEND;VALUE=DATE:20261128
DTSTAMP:20260422T042452
CREATED:20251226T145248Z
LAST-MODIFIED:20251226T151731Z
UID:10000306-1795651200-1795823999@www.westreadingborough.com
SUMMARY:Thanksgiving Holiday
DESCRIPTION:Borough Hall will be closed in observance of Thanksgiving on November 26 & 27. However\, if you require Police assistance or have a sewer backup\, please call our after-hours non-emergency number at 610-373-0111. The dispatcher will have Borough personnel contact you.
URL:https://www.westreadingborough.com/event/thanksgiving-day-2/
CATEGORIES:Holiday
ATTACH;FMTTYPE=image/jpeg:https://www.westreadingborough.com/wp-content/uploads/2025/12/Thanksgiving-Image2.jpg
END:VEVENT
BEGIN:VEVENT
DTSTART;VALUE=DATE:20261224
DTEND;VALUE=DATE:20261226
DTSTAMP:20260422T042452
CREATED:20251226T150401Z
LAST-MODIFIED:20251226T151613Z
UID:10000307-1798070400-1798243199@www.westreadingborough.com
SUMMARY:Christmas Holiday
DESCRIPTION:Borough Hall will be closed in observance of the Christmas Holiday on December 24 & 25. However\, if you require Police assistance or have a sewer backup\, please call our after-hours non-emergency number at 610-373-0111. The dispatcher will have Borough personnel contact you.
URL:https://www.westreadingborough.com/event/christmas/
CATEGORIES:Holiday
ATTACH;FMTTYPE=image/jpeg:https://www.westreadingborough.com/wp-content/uploads/2025/12/Christmas.jpg
END:VEVENT
BEGIN:VEVENT
DTSTART;VALUE=DATE:20261231
DTEND;VALUE=DATE:20270102
DTSTAMP:20260422T042452
CREATED:20251226T151018Z
LAST-MODIFIED:20251226T151449Z
UID:10000308-1798675200-1798847999@www.westreadingborough.com
SUMMARY:New Year Holiday
DESCRIPTION:Borough Hall will be closed in observance of the New Year Holiday on December 31 & January 1. However\, if you require Police assistance or have a sewer backup\, please call our after-hours non-emergency number at 610-373-0111. The dispatcher will have Borough personnel contact you.\n\n\n\n 
URL:https://www.westreadingborough.com/event/new-year-holiday/
CATEGORIES:Holiday
ATTACH;FMTTYPE=image/jpeg:https://www.westreadingborough.com/wp-content/uploads/2025/12/Happy-New-Year_.jpg
END:VEVENT
END:VCALENDAR