BEGIN:VCALENDAR
VERSION:2.0
PRODID:-//The Borough of West Reading, PA - ECPv6.15.20//NONSGML v1.0//EN
CALSCALE:GREGORIAN
METHOD:PUBLISH
X-ORIGINAL-URL:https://www.westreadingborough.com
X-WR-CALDESC:Events for The Borough of West Reading, PA
REFRESH-INTERVAL;VALUE=DURATION:PT1H
X-Robots-Tag:noindex
X-PUBLISHED-TTL:PT1H
BEGIN:VTIMEZONE
TZID:America/New_York
BEGIN:DAYLIGHT
TZOFFSETFROM:-0500
TZOFFSETTO:-0400
TZNAME:EDT
DTSTART:20240310T070000
END:DAYLIGHT
BEGIN:STANDARD
TZOFFSETFROM:-0400
TZOFFSETTO:-0500
TZNAME:EST
DTSTART:20241103T060000
END:STANDARD
BEGIN:DAYLIGHT
TZOFFSETFROM:-0500
TZOFFSETTO:-0400
TZNAME:EDT
DTSTART:20250309T070000
END:DAYLIGHT
BEGIN:STANDARD
TZOFFSETFROM:-0400
TZOFFSETTO:-0500
TZNAME:EST
DTSTART:20251102T060000
END:STANDARD
BEGIN:DAYLIGHT
TZOFFSETFROM:-0500
TZOFFSETTO:-0400
TZNAME:EDT
DTSTART:20260308T070000
END:DAYLIGHT
BEGIN:STANDARD
TZOFFSETFROM:-0400
TZOFFSETTO:-0500
TZNAME:EST
DTSTART:20261101T060000
END:STANDARD
BEGIN:DAYLIGHT
TZOFFSETFROM:-0500
TZOFFSETTO:-0400
TZNAME:EDT
DTSTART:20270314T070000
END:DAYLIGHT
BEGIN:STANDARD
TZOFFSETFROM:-0400
TZOFFSETTO:-0500
TZNAME:EST
DTSTART:20271107T060000
END:STANDARD
END:VTIMEZONE
BEGIN:VEVENT
DTSTART;VALUE=DATE:20260403
DTEND;VALUE=DATE:20260404
DTSTAMP:20260422T054133
CREATED:20251226T141047Z
LAST-MODIFIED:20251226T141047Z
UID:10000298-1775174400-1775260799@www.westreadingborough.com
SUMMARY:Good Friday
DESCRIPTION:Borough Hall will be closed in observance of Good Friday. However\, if you require Police assistance or have a sewer backup\, please call our after-hours non-emergency number at 610-373-0111. The dispatcher will have Borough personnel contact you.
URL:https://www.westreadingborough.com/event/good-friday/
CATEGORIES:Holiday
ATTACH;FMTTYPE=image/jpeg:https://www.westreadingborough.com/wp-content/uploads/2025/12/Good-Friday.jpg
END:VEVENT
BEGIN:VEVENT
DTSTART;VALUE=DATE:20260216
DTEND;VALUE=DATE:20260217
DTSTAMP:20260422T054133
CREATED:20251226T140154Z
LAST-MODIFIED:20251226T140154Z
UID:10000297-1771200000-1771286399@www.westreadingborough.com
SUMMARY:Presidents' Day
DESCRIPTION:Borough Hall will be closed in observance of Presidents’ Day. However\, if you require Police assistance or have a sewer backup\, please call our after-hours non-emergency number at 610-373-0111. The dispatcher will have Borough personnel contact you.
URL:https://www.westreadingborough.com/event/presidents-day/
CATEGORIES:Holiday
END:VEVENT
BEGIN:VEVENT
DTSTART;VALUE=DATE:20260119
DTEND;VALUE=DATE:20260120
DTSTAMP:20260422T054133
CREATED:20251223T215530Z
LAST-MODIFIED:20251226T142812Z
UID:10000296-1768780800-1768867199@www.westreadingborough.com
SUMMARY:Martin Luther King Jr. Day
DESCRIPTION:Borough Hall will be closed in observance of Martin Luther King Jr. Day. However\, if you require Police assistance or have a sewer back-up\, please call our after-hours non-emergency number at 610-373-0111. The dispatcher will have Borough personnel contact you.
URL:https://www.westreadingborough.com/event/martin-luther-king-jr-day/
CATEGORIES:Holiday
ATTACH;FMTTYPE=image/jpeg:https://www.westreadingborough.com/wp-content/uploads/2025/12/MLK-Image-1.jpg
END:VEVENT
BEGIN:VEVENT
DTSTART;VALUE=DATE:20260101
DTEND;VALUE=DATE:20260102
DTSTAMP:20260422T054133
CREATED:20251028T123346Z
LAST-MODIFIED:20251028T141230Z
UID:10000027-1767225600-1767311999@www.westreadingborough.com
SUMMARY:New Year's Day
DESCRIPTION:Borough Hall will be closed in observance of New Year’s Day. However\, if you require Police assistance or if you have a sewer back-up\, please call our after-hours non-emergency number 610-373-0111. The dispatcher will have Borough personnel contact you.
URL:https://www.westreadingborough.com/event/new-years-day/
CATEGORIES:Holiday
ATTACH;FMTTYPE=image/jpeg:https://www.westreadingborough.com/wp-content/uploads/2025/10/New-Year-01.jpg
END:VEVENT
BEGIN:VEVENT
DTSTART;VALUE=DATE:20251231
DTEND;VALUE=DATE:20260101
DTSTAMP:20260422T054133
CREATED:20251028T123252Z
LAST-MODIFIED:20251028T123356Z
UID:10000026-1767139200-1767225599@www.westreadingborough.com
SUMMARY:New Year's Eve Day
DESCRIPTION:Borough Hall will be closed in observance of New Year’s Eve Day. However\, if you require Police assistance or if you have a sewer back-up\, please call our after-hours non-emergency number 610-373-0111. The dispatcher will have Borough personnel contact you.
URL:https://www.westreadingborough.com/event/282936/
CATEGORIES:Holiday
ATTACH;FMTTYPE=image/jpeg:https://www.westreadingborough.com/wp-content/uploads/2025/10/New-Year-01.jpg
END:VEVENT
BEGIN:VEVENT
DTSTART;VALUE=DATE:20251225
DTEND;VALUE=DATE:20251226
DTSTAMP:20260422T054133
CREATED:20251028T122533Z
LAST-MODIFIED:20251118T213517Z
UID:10000024-1766620800-1766707199@www.westreadingborough.com
SUMMARY:Christmas Day
DESCRIPTION:Borough Hall will be closed in observance of Christmas Day. However\, if you require Police assistance or have a sewer back-up\, please call our after-hours non-emergency number at 610-373-0111. The dispatcher will have Borough personnel contact you.
URL:https://www.westreadingborough.com/event/christmas-eve/
CATEGORIES:Holiday
ATTACH;FMTTYPE=image/jpeg:https://www.westreadingborough.com/wp-content/uploads/2025/10/Christmas-01.jpg
END:VEVENT
BEGIN:VEVENT
DTSTART;VALUE=DATE:20251224
DTEND;VALUE=DATE:20251225
DTSTAMP:20260422T054133
CREATED:20251028T122615Z
LAST-MODIFIED:20251118T212608Z
UID:10000025-1766534400-1766620799@www.westreadingborough.com
SUMMARY:Christmas Eve
DESCRIPTION:Borough Hall will be closed in observance of Christmas Day. However\, if you require Police assistance or if you have a sewer back-up\, please call our after-hours non-emergency number 610-373-0111. The dispatcher will have Borough personnel contact you.
URL:https://www.westreadingborough.com/event/christmas-eve-2/
CATEGORIES:Holiday
ATTACH;FMTTYPE=image/jpeg:https://www.westreadingborough.com/wp-content/uploads/2025/10/Christmas-01.jpg
END:VEVENT
BEGIN:VEVENT
DTSTART;VALUE=DATE:20251128
DTEND;VALUE=DATE:20251129
DTSTAMP:20260422T054133
CREATED:20251028T135403Z
LAST-MODIFIED:20251028T135403Z
UID:10000034-1764288000-1764374399@www.westreadingborough.com
SUMMARY:Friday after Thanksgiving Holiday
DESCRIPTION:Borough Hall will be closed in observance of Black Friday. However\, if you require Police assistance or if you have a sewer back-up\, please call our after-hours non-emergency number 610-373-0111. The dispatcher will have Borough personnel contact you.
URL:https://www.westreadingborough.com/event/friday-after-thanksgiving-holiday/
CATEGORIES:Holiday
ATTACH;FMTTYPE=image/jpeg:https://www.westreadingborough.com/wp-content/uploads/2025/10/Friday-After-Thanksgiving-01.jpg
END:VEVENT
BEGIN:VEVENT
DTSTART;VALUE=DATE:20251127
DTEND;VALUE=DATE:20251128
DTSTAMP:20260422T054133
CREATED:20251028T135240Z
LAST-MODIFIED:20251118T212440Z
UID:10000033-1764201600-1764287999@www.westreadingborough.com
SUMMARY:Thanksgiving Day
DESCRIPTION:Borough Hall will be closed in observance of Thanksgiving Day. However\, if you require Police assistance or if you have a sewer back-up\, please call our after-hours non-emergency number 610-373-0111. The dispatcher will have Borough personnel contact you.
URL:https://www.westreadingborough.com/event/thanksgiving-day/
CATEGORIES:Holiday
ATTACH;FMTTYPE=image/jpeg:https://www.westreadingborough.com/wp-content/uploads/2025/10/Thanksgiving-01.jpg
END:VEVENT
BEGIN:VEVENT
DTSTART;VALUE=DATE:20251111
DTEND;VALUE=DATE:20251112
DTSTAMP:20260422T054133
CREATED:20251028T135909Z
LAST-MODIFIED:20251028T135909Z
UID:10000035-1762819200-1762905599@www.westreadingborough.com
SUMMARY:Veteran's Day
DESCRIPTION:Borough Hall will be closed in observance of Veteran’s Day. However\, if you require Police assistance or if you have a sewer back-up\, please call our after-hours non-emergency number 610-373-0111. The dispatcher will have Borough personnel contact you.
URL:https://www.westreadingborough.com/event/veterans-day/
CATEGORIES:Holiday
ATTACH;FMTTYPE=image/jpeg:https://www.westreadingborough.com/wp-content/uploads/2025/10/Veterans-Day-01.jpg
END:VEVENT
END:VCALENDAR