BEGIN:VCALENDAR
VERSION:2.0
PRODID:-//The Borough of West Reading, PA - ECPv6.15.20//NONSGML v1.0//EN
CALSCALE:GREGORIAN
METHOD:PUBLISH
X-WR-CALNAME:The Borough of West Reading, PA
X-ORIGINAL-URL:https://www.westreadingborough.com
X-WR-CALDESC:Events for The Borough of West Reading, PA
REFRESH-INTERVAL;VALUE=DURATION:PT1H
X-Robots-Tag:noindex
X-PUBLISHED-TTL:PT1H
BEGIN:VTIMEZONE
TZID:America/New_York
BEGIN:DAYLIGHT
TZOFFSETFROM:-0500
TZOFFSETTO:-0400
TZNAME:EDT
DTSTART:20250309T070000
END:DAYLIGHT
BEGIN:STANDARD
TZOFFSETFROM:-0400
TZOFFSETTO:-0500
TZNAME:EST
DTSTART:20251102T060000
END:STANDARD
BEGIN:DAYLIGHT
TZOFFSETFROM:-0500
TZOFFSETTO:-0400
TZNAME:EDT
DTSTART:20260308T070000
END:DAYLIGHT
BEGIN:STANDARD
TZOFFSETFROM:-0400
TZOFFSETTO:-0500
TZNAME:EST
DTSTART:20261101T060000
END:STANDARD
BEGIN:DAYLIGHT
TZOFFSETFROM:-0500
TZOFFSETTO:-0400
TZNAME:EDT
DTSTART:20270314T070000
END:DAYLIGHT
BEGIN:STANDARD
TZOFFSETFROM:-0400
TZOFFSETTO:-0500
TZNAME:EST
DTSTART:20271107T060000
END:STANDARD
END:VTIMEZONE
BEGIN:VEVENT
DTSTART;TZID=America/New_York:20261122T100000
DTEND;TZID=America/New_York:20261122T130000
DTSTAMP:20260420T160010
CREATED:20260206T194442Z
LAST-MODIFIED:20260206T195648Z
UID:10000368-1795341600-1795352400@www.westreadingborough.com
SUMMARY:West Reading Farmers' Market
DESCRIPTION:The weekly Sunday Summer Farmers’ Market will take place on the 500 block of Penn Avenue and South Sixth Avenue\, West Reading\, from 10 AM to 1 PM\, rain or shine. \nThe WRFM is entering its 20th season as a producer-only outdoor farmers’ market. Every vendor is a hand-picked small-scale farmer (produce\, livestock\, or dairy) or food business located within 50 miles of West Reading. Each item is grown\, raised\, or hand-made. Our passion is educating our customers on the benefits and positive impact of committing to supporting locally grown and produced foods. We offer a variety of seasonal vegetables and fruits\, artisan pastries\, cookies\, and organic breads\, pastured meats\, poultry\, and eggs\, cheeses\, raw local honey\, hand-made ravioli and pasta\, olive oil\, locally roasted coffee and blended teas\, fresh cut flowers\, herbal tinctures and body products\, locally fermented cider and beer. All value-added producers are highly encouraged to source local ingredients whenever possible. \nEvery market features live music\, free samples\, and our primary goal of serving as a gathering place for those who love local foods\, while supporting our vendors in getting their goods to the community. We also celebrate local artisan crafters every Second Sunday of the month. Please take part in supporting our producers each Sunday as they show up rain or shine to nourish your family. If knowing where your food comes from is important to you\, THIS is the farmers’ market for you! The market is now accepting SNAP\, and our vegetable and mushroom growers accept Farmers’ Market Nutrition Program (FMNP) checks. See the market info table on our website for more information. See you on the Ave! WestReadingFarmersMarket.com
URL:https://www.westreadingborough.com/event/west-reading-farmers-market-3/2026-11-22/
LOCATION:West Reading Park & Pavilion\, 505 Sycamore Road\, West Reading\, PA\, 19611\, United States
CATEGORIES:Event
ATTACH;FMTTYPE=image/jpeg:https://www.westreadingborough.com/wp-content/uploads/2025/12/wrb-farmers-market.jpg
END:VEVENT
BEGIN:VEVENT
DTSTART;TZID=America/New_York:20261129T100000
DTEND;TZID=America/New_York:20261129T130000
DTSTAMP:20260420T160010
CREATED:20260206T194442Z
LAST-MODIFIED:20260206T195648Z
UID:10000422-1795946400-1795957200@www.westreadingborough.com
SUMMARY:West Reading Farmers' Market
DESCRIPTION:The weekly Sunday Summer Farmers’ Market will take place on the 500 block of Penn Avenue and South Sixth Avenue\, West Reading\, from 10 AM to 1 PM\, rain or shine. \nThe WRFM is entering its 20th season as a producer-only outdoor farmers’ market. Every vendor is a hand-picked small-scale farmer (produce\, livestock\, or dairy) or food business located within 50 miles of West Reading. Each item is grown\, raised\, or hand-made. Our passion is educating our customers on the benefits and positive impact of committing to supporting locally grown and produced foods. We offer a variety of seasonal vegetables and fruits\, artisan pastries\, cookies\, and organic breads\, pastured meats\, poultry\, and eggs\, cheeses\, raw local honey\, hand-made ravioli and pasta\, olive oil\, locally roasted coffee and blended teas\, fresh cut flowers\, herbal tinctures and body products\, locally fermented cider and beer. All value-added producers are highly encouraged to source local ingredients whenever possible. \nEvery market features live music\, free samples\, and our primary goal of serving as a gathering place for those who love local foods\, while supporting our vendors in getting their goods to the community. We also celebrate local artisan crafters every Second Sunday of the month. Please take part in supporting our producers each Sunday as they show up rain or shine to nourish your family. If knowing where your food comes from is important to you\, THIS is the farmers’ market for you! The market is now accepting SNAP\, and our vegetable and mushroom growers accept Farmers’ Market Nutrition Program (FMNP) checks. See the market info table on our website for more information. See you on the Ave! WestReadingFarmersMarket.com
URL:https://www.westreadingborough.com/event/west-reading-farmers-market-3/2026-11-29/
LOCATION:West Reading Park & Pavilion\, 505 Sycamore Road\, West Reading\, PA\, 19611\, United States
CATEGORIES:Event
ATTACH;FMTTYPE=image/jpeg:https://www.westreadingborough.com/wp-content/uploads/2025/12/wrb-farmers-market.jpg
END:VEVENT
BEGIN:VEVENT
DTSTART;TZID=America/New_York:20261214T180000
DTEND;TZID=America/New_York:20261214T180000
DTSTAMP:20260420T160010
CREATED:20260106T203032Z
LAST-MODIFIED:20260106T210041Z
UID:10000319-1797271200-1797271200@www.westreadingborough.com
SUMMARY:Economic Development Committee Meeting
DESCRIPTION:
URL:https://www.westreadingborough.com/event/economic-development-committee/2026-12-14/
LOCATION:West Reading Borough Hall\, 500 Chestnut Street\, West Reading\, PA\, 19611\, United States
CATEGORIES:Economic Development Committee Meeting,Event
ATTACH;FMTTYPE=image/jpeg:https://www.westreadingborough.com/wp-content/uploads/2025/10/Case-Study-West-Reading-PA.jpg
END:VEVENT
END:VCALENDAR