BEGIN:VCALENDAR
VERSION:2.0
PRODID:-//The Borough of West Reading, PA - ECPv6.15.20//NONSGML v1.0//EN
CALSCALE:GREGORIAN
METHOD:PUBLISH
X-WR-CALNAME:The Borough of West Reading, PA
X-ORIGINAL-URL:https://www.westreadingborough.com
X-WR-CALDESC:Events for The Borough of West Reading, PA
REFRESH-INTERVAL;VALUE=DURATION:PT1H
X-Robots-Tag:noindex
X-PUBLISHED-TTL:PT1H
BEGIN:VTIMEZONE
TZID:America/New_York
BEGIN:DAYLIGHT
TZOFFSETFROM:-0500
TZOFFSETTO:-0400
TZNAME:EDT
DTSTART:20250309T070000
END:DAYLIGHT
BEGIN:STANDARD
TZOFFSETFROM:-0400
TZOFFSETTO:-0500
TZNAME:EST
DTSTART:20251102T060000
END:STANDARD
BEGIN:DAYLIGHT
TZOFFSETFROM:-0500
TZOFFSETTO:-0400
TZNAME:EDT
DTSTART:20260308T070000
END:DAYLIGHT
BEGIN:STANDARD
TZOFFSETFROM:-0400
TZOFFSETTO:-0500
TZNAME:EST
DTSTART:20261101T060000
END:STANDARD
BEGIN:DAYLIGHT
TZOFFSETFROM:-0500
TZOFFSETTO:-0400
TZNAME:EDT
DTSTART:20270314T070000
END:DAYLIGHT
BEGIN:STANDARD
TZOFFSETFROM:-0400
TZOFFSETTO:-0500
TZNAME:EST
DTSTART:20271107T060000
END:STANDARD
END:VTIMEZONE
BEGIN:VEVENT
DTSTART;TZID=America/New_York:20260817T183000
DTEND;TZID=America/New_York:20260817T193000
DTSTAMP:20260422T151350
CREATED:20260421T221025Z
LAST-MODIFIED:20260421T221025Z
UID:10000479-1786991400-1786995000@www.westreadingborough.com
SUMMARY:Aqua Zumba S'WET
DESCRIPTION:This S’WET challenge aqua fitness class offers instructor-guided circuits with the five base moves and four variations for all levels. \nArrive early to register and find your spot in the pool. No membership required\, cost is $11. Bring your water bottle\, towel\, and optional water shoes. Locker rooms are available for changing. \nThis is an outdoor class that won’t be held in inclement weather. \n 
URL:https://www.westreadingborough.com/event/aqua-zumba-swet/2026-08-17/
LOCATION:West Reading Pool\, 475 Museum Road\, West Reading\, PA\, 19611\, United States
CATEGORIES:Community Event
ATTACH;FMTTYPE=image/png:https://www.westreadingborough.com/wp-content/uploads/2026/04/Aqua-Zumba-WR-Pool.png
END:VEVENT
END:VCALENDAR