BEGIN:VCALENDAR
VERSION:2.0
PRODID:-//The Borough of West Reading, PA - ECPv6.15.20//NONSGML v1.0//EN
CALSCALE:GREGORIAN
METHOD:PUBLISH
X-ORIGINAL-URL:https://www.westreadingborough.com
X-WR-CALDESC:Events for The Borough of West Reading, PA
REFRESH-INTERVAL;VALUE=DURATION:PT1H
X-Robots-Tag:noindex
X-PUBLISHED-TTL:PT1H
BEGIN:VTIMEZONE
TZID:America/New_York
BEGIN:DAYLIGHT
TZOFFSETFROM:-0500
TZOFFSETTO:-0400
TZNAME:EDT
DTSTART:20250309T070000
END:DAYLIGHT
BEGIN:STANDARD
TZOFFSETFROM:-0400
TZOFFSETTO:-0500
TZNAME:EST
DTSTART:20251102T060000
END:STANDARD
BEGIN:DAYLIGHT
TZOFFSETFROM:-0500
TZOFFSETTO:-0400
TZNAME:EDT
DTSTART:20260308T070000
END:DAYLIGHT
BEGIN:STANDARD
TZOFFSETFROM:-0400
TZOFFSETTO:-0500
TZNAME:EST
DTSTART:20261101T060000
END:STANDARD
BEGIN:DAYLIGHT
TZOFFSETFROM:-0500
TZOFFSETTO:-0400
TZNAME:EDT
DTSTART:20270314T070000
END:DAYLIGHT
BEGIN:STANDARD
TZOFFSETFROM:-0400
TZOFFSETTO:-0500
TZNAME:EST
DTSTART:20271107T060000
END:STANDARD
END:VTIMEZONE
BEGIN:VEVENT
DTSTART;TZID=America/New_York:20260421T190000
DTEND;TZID=America/New_York:20260421T190000
DTSTAMP:20260420T040842
CREATED:20251218T212828Z
LAST-MODIFIED:20251223T212551Z
UID:10000069-1776798000-1776798000@www.westreadingborough.com
SUMMARY:Borough Council Meeting
DESCRIPTION:
URL:https://www.westreadingborough.com/event/borough-council-meeting-8/2026-04-21/
LOCATION:West Reading Borough Hall\, 500 Chestnut Street\, West Reading\, PA\, 19611\, United States
CATEGORIES:Borough Council Meeting
ATTACH;FMTTYPE=image/jpeg:https://www.westreadingborough.com/wp-content/uploads/2025/10/Borough-Council-Meeting-01.jpg
END:VEVENT
BEGIN:VEVENT
DTSTART;TZID=America/New_York:20260422T190000
DTEND;TZID=America/New_York:20260422T190000
DTSTAMP:20260420T040842
CREATED:20260415T143643Z
LAST-MODIFIED:20260415T143729Z
UID:10000467-1776884400-1776884400@www.westreadingborough.com
SUMMARY:Cancelled - Borough Council Special Meeting
DESCRIPTION:April 22\, 2026 – 7:00 PM \nThe second public hearing on the Preliminary Plan for the proposed West Reading Business Improvement District (WRBID) is not required because there are no substantive changes from the April 7\, 2026\, public hearing.
URL:https://www.westreadingborough.com/event/cancelled-borough-council-special-meeting/
LOCATION:West Reading Fire Department\, 223 Playground Drive\, West Reading\, PA\, 19611\, United States
CATEGORIES:Event
ATTACH;FMTTYPE=image/jpeg:https://www.westreadingborough.com/wp-content/uploads/2026/04/Public-Hearing.jpg
END:VEVENT
BEGIN:VEVENT
DTSTART;TZID=America/New_York:20260425T100000
DTEND;TZID=America/New_York:20260425T100000
DTSTAMP:20260420T040842
CREATED:20260407T150012Z
LAST-MODIFIED:20260407T150138Z
UID:10000435-1777111200-1777111200@www.westreadingborough.com
SUMMARY:Zumba at the Park
DESCRIPTION:Valerie will be hosting her Zumba class again this spring on Saturday mornings at 10:00 a.m. at the West Reading Pavilion. Her Zumba classes are always high energy and a ton of fun!
URL:https://www.westreadingborough.com/event/zumba-at-the-park/2026-04-25/
LOCATION:West Reading Park & Pavilion\, 505 Sycamore Road\, West Reading\, PA\, 19611\, United States
CATEGORIES:Recreation
ATTACH;FMTTYPE=image/png:https://www.westreadingborough.com/wp-content/uploads/2026/04/2026-Zumba-Flyer.png
END:VEVENT
BEGIN:VEVENT
DTSTART;TZID=America/New_York:20260426T100000
DTEND;TZID=America/New_York:20260426T120000
DTSTAMP:20260420T040842
CREATED:20251202T133023Z
LAST-MODIFIED:20260131T120126Z
UID:10000062-1777197600-1777204800@www.westreadingborough.com
SUMMARY:West Reading Farmers Market
DESCRIPTION:The biweekly Sunday Winter Farmers’ Market will take place in the West Reading Shopping Center parking lot\, 525 Penn Avenue\, West Reading\, from 10 AM to 12 PM\, rain or shine. \nThe WRFM is celebrating its 19th season as a year-round\, outdoor\, producer-only market\, meaning every vendor is a hand-picked\, small-scale farmer (produce\, livestock\, or dairy) or a food business located within 50 miles of West Reading. Each item is grown\, raised\, or hand-made. Our goals include educating our customer base on the benefits and positive impact of supporting locally grown and produced foods. We offer a variety of seasonal vegetables and fruits\, artisan pastries\, organic breads and sweet treats\, pastured meats and poultry and eggs\, cheeses\, raw local honey\, hand-made ravioli\, pierogi\, and pasta\, cooking oils\, roasted coffee and tea\, fresh cut flowers\, herbal tinctures and body products\, locally fermented cider\, and beer. We encourage our value-added producers to use local ingredients wherever possible.
URL:https://www.westreadingborough.com/event/west-reading-farmers-market/2026-04-26/
LOCATION:West Reading Shopping Center\, 525 Penn Avenue\, West Reading\, PA\, 19611\, United States
CATEGORIES:Community Event
ATTACH;FMTTYPE=image/jpeg:https://www.westreadingborough.com/wp-content/uploads/2025/12/wrb-farmers-market.jpg
END:VEVENT
BEGIN:VEVENT
DTSTART;TZID=America/New_York:20260427T180000
DTEND;TZID=America/New_York:20260427T180000
DTSTAMP:20260420T040842
CREATED:20251223T214746Z
LAST-MODIFIED:20251223T214746Z
UID:10000287-1777312800-1777312800@www.westreadingborough.com
SUMMARY:Environmental Advisory Council Meeting
DESCRIPTION:
URL:https://www.westreadingborough.com/event/environmental-advisory-council-meeting-4/2026-04-27/
LOCATION:West Reading Borough Hall\, 500 Chestnut Street\, West Reading\, PA\, 19611\, United States
CATEGORIES:Environmental Advisory Council Meeting
ATTACH;FMTTYPE=image/jpeg:https://www.westreadingborough.com/wp-content/uploads/2025/10/Case-Study-West-Reading-PA.jpg
END:VEVENT
BEGIN:VEVENT
DTSTART;TZID=America/New_York:20260428T180000
DTEND;TZID=America/New_York:20260428T180000
DTSTAMP:20260420T040842
CREATED:20251218T213905Z
LAST-MODIFIED:20251223T212659Z
UID:10000129-1777399200-1777399200@www.westreadingborough.com
SUMMARY:Borough Council Meeting
DESCRIPTION:
URL:https://www.westreadingborough.com/event/borough-council-meeting-9/2026-04-28/
LOCATION:West Reading Borough Hall\, 500 Chestnut Street\, West Reading\, PA\, 19611\, United States
CATEGORIES:Borough Council Meeting
ATTACH;FMTTYPE=image/jpeg:https://www.westreadingborough.com/wp-content/uploads/2025/10/Case-Study-West-Reading-PA.jpg
END:VEVENT
END:VCALENDAR